BEGIN:VCALENDAR
VERSION:2.0
PRODID:-//ChamberMaster//Event Calendar 2.0//EN
METHOD:PUBLISH
X-PUBLISHED-TTL:P3D
REFRESH-INTERVAL:P3D
CALSCALE:GREGORIAN
BEGIN:VEVENT
DTSTART:20190209T213000Z
DTEND:20190209T230000Z
X-MICROSOFT-CDO-ALLDAYEVENT:FALSE
SUMMARY:Preschool Valentine Party
DESCRIPTION:Fun Valentine's Day party for preschoolers. Open Gym\, craft and snack.
X-ALT-DESC;FMTTYPE=text/html:Fun Valentine&#39\;s Day party for preschoolers. Open Gym\, craft and snack.
LOCATION:Jam Hops\, 1460 133rd Lane NE\, Ham Lake
UID:e.380.188356
SEQUENCE:3
DTSTAMP:20260420T074356Z
URL:http://members.metronorthchamber.org/events/details/preschool-valentine-party-02-09-2019-188356
END:VEVENT

END:VCALENDAR
