BEGIN:VCALENDAR
VERSION:2.0
PRODID:-//ChamberMaster//Event Calendar 2.0//EN
METHOD:PUBLISH
X-PUBLISHED-TTL:P3D
REFRESH-INTERVAL:P3D
CALSCALE:GREGORIAN
BEGIN:VEVENT
DTSTART:20191026T203000Z
DTEND:20191026T220000Z
X-MICROSOFT-CDO-ALLDAYEVENT:FALSE
SUMMARY:Preschool Halloween Party
DESCRIPTION:Come dressed in your costume and have fun with other preschoolers doing open gym\, a craft\, games\, snack and other fun activities!
X-ALT-DESC;FMTTYPE=text/html:<span style="font-family:comic sans ms\,cursive"><strong><span style="font-size:18px">Come dressed in your costume and have fun with other preschoolers doing open gym\, a craft\, games\, snack&nbsp\;and other fun activities!</span></strong></span>
LOCATION:1460 133rd Lane NE\, Ham Lake
UID:e.380.191436
SEQUENCE:3
DTSTAMP:20260419T193359Z
URL:http://members.metronorthchamber.org/events/details/preschool-halloween-party-191436
END:VEVENT

END:VCALENDAR
