BEGIN:VCALENDAR
VERSION:2.0
PRODID:-//ChamberMaster//Event Calendar 2.0//EN
METHOD:PUBLISH
X-PUBLISHED-TTL:P3D
REFRESH-INTERVAL:P3D
CALSCALE:GREGORIAN
BEGIN:VEVENT
DTSTART:20190413T203000Z
DTEND:20190413T220000Z
X-MICROSOFT-CDO-ALLDAYEVENT:FALSE
SUMMARY:Preschool Easter Party
DESCRIPTION:Bring children for a fun time playing games\, having open gym\, doing a craft and having an indoor Easter Egg Hunt!
X-ALT-DESC;FMTTYPE=text/html:Bring children for a fun time playing games\, having open gym\, doing a craft and having an indoor Easter Egg Hunt!
LOCATION:1460 133rd Lane NE\, Ham Lake
UID:e.380.188474
SEQUENCE:3
DTSTAMP:20260420T041510Z
URL:http://members.metronorthchamber.org/events/details/preschool-easter-party-04-13-2019-188474
END:VEVENT

END:VCALENDAR
