BEGIN:VCALENDAR
VERSION:2.0
PRODID:-//ChamberMaster//Event Calendar 2.0//EN
METHOD:PUBLISH
X-PUBLISHED-TTL:P3D
REFRESH-INTERVAL:P3D
CALSCALE:GREGORIAN
BEGIN:VEVENT
DTSTART:20190807T140000Z
DTEND:20190807T170000Z
X-MICROSOFT-CDO-ALLDAYEVENT:FALSE
SUMMARY:Preschool Camp
DESCRIPTION:Bring your kids to Jam Hops for preschool age fun!
X-ALT-DESC;FMTTYPE=text/html:Bring your kids to Jam Hops for preschool age fun!
LOCATION:1460 133rd Lane NE\, Ham Lake
UID:e.380.189272
SEQUENCE:3
DTSTAMP:20260419T212758Z
URL:http://members.metronorthchamber.org/events/details/preschool-camp-08-07-2019-189272
END:VEVENT

END:VCALENDAR
