BEGIN:VCALENDAR
VERSION:2.0
PRODID:-//ChamberMaster//Event Calendar 2.0//EN
METHOD:PUBLISH
X-PUBLISHED-TTL:P3D
REFRESH-INTERVAL:P3D
CALSCALE:GREGORIAN
BEGIN:VEVENT
DTSTART:20180223T000000Z
DTEND:20180223T010000Z
X-MICROSOFT-CDO-ALLDAYEVENT:FALSE
SUMMARY:Preparing Your Estate Plan with Nate Klauser
DESCRIPTION:Do I need an estate strategy?\n\nYou may think that only people who are "wealthy" or have complicated family situations need an estate strategy\, but that's not the case.\n\nJoin me for a free informational seminar.
X-ALT-DESC;FMTTYPE=text/html:<h3 style="margin: 0px 0px 10px\; font-family: ProximaNova\, Helvetica\, Arial\, sans-serif\; line-height: 1.25em\; color: rgb(91\, 88\, 84)\; text-rendering: optimizeLegibility\; font-size: 18px\; box-sizing: border-box\;"><a href="https://www.edwardjones.com/preparing-for-your-future/estate-inheritance/estate-strategy.html" style="color: rgb(91\, 88\, 84)\; text-decoration-line: none\; box-sizing: border-box\; outline: 0px\; outline-offset: -2px\;">Do I need an estate strategy?</a></h3>\n\n<p style="color: rgb(91\, 88\, 84)\; margin: 0px 0px 10px\; box-sizing: border-box\; font-family: ProximaNova\, Helvetica\, Arial\, sans-serif\; font-size: 16px\;">You may think that only people who are &quot\;wealthy&quot\; or have complicated family situations need an estate strategy\, but that&#39\;s not the case.</p>\n\n<p style="color: rgb(91\, 88\, 84)\; margin: 0px 0px 10px\; box-sizing: border-box\; font-family: ProximaNova\, Helvetica\, Arial\, sans-serif\; font-size: 16px\;">Join me for a free informational seminar.</p>\n
LOCATION:Sticks & Stones 9250 Lincoln St. NE Blaine\, Minnesota 55434
UID:e.380.180194
SEQUENCE:3
DTSTAMP:20260421T022046Z
URL:http://members.metronorthchamber.org/events/details/preparing-your-estate-plan-with-nate-klauser-180194
END:VEVENT

END:VCALENDAR
