BEGIN:VCALENDAR
VERSION:2.0
PRODID:-//ChamberMaster//Event Calendar 2.0//EN
METHOD:PUBLISH
X-PUBLISHED-TTL:P3D
REFRESH-INTERVAL:P3D
CALSCALE:GREGORIAN
BEGIN:VEVENT
DTSTART;VALUE=DATE:20150208
DTEND;VALUE=DATE:20150209
TRANSP:TRANSPARENT
X-MICROSOFT-CDO-ALLDAYEVENT:TRUE
SUMMARY:Premier Designs fundraising event for Life Prep Academy
DESCRIPTION:PREMIER DESIGNS fundraising event for Life Prep Academy\n\n\n\nStop in and see various pieces of jewelry and scarves for purchase.  Life Prep Academy will receive 25% of sales!\n\n\n\nLADIES: treat yourself to new jewelry or a scarf\, to accessorize your wardrobe.  Or bring in your own favorite scarves/pieces of jewelry and learn a new way to wear them!\n\nGENTLEMEN: treat your wife/girlfriend/mom/daughter to new jewelry or a scarf.  Valentine's Day is just around the corner :)  You can buy an item\, or buy a gift certificate\, and let her choose her own!  A great gift\, and help for a good cause!
X-ALT-DESC;FMTTYPE=text/html:<span style="font-size: 14px\;"><strong>PREMIER DESIGNS fundraising event for Life Prep Academy</strong><br />\n<br />\n<span style="font-size: 12px\;">Stop in and see various pieces of jewelry and scarves for purchase.&nbsp\; Life Prep Academy will receive 25% of sales!<br />\n<br />\nLADIES: treat yourself to new jewelry or a scarf\, to accessorize your wardrobe.&nbsp\; Or bring in your own favorite scarves/pieces of jewelry and learn a new way to wear them!<br />\nGENTLEMEN: treat your wife/girlfriend/mom/daughter to new jewelry or a scarf.&nbsp\; Valentine&#39\;s Day is just around the corner :)&nbsp\; You can buy an item\, or buy a gift certificate\, and let her choose her own!&nbsp\; A great gift\, and help for a good cause!</span></span><br />\n&nbsp\;
LOCATION:Life Prep Academy 1628 County Highway 10 NE Spring Lake Park 55432
UID:e.380.155778
SEQUENCE:3
DTSTAMP:20260423T130457Z
URL:http://members.metronorthchamber.org/events/details/premier-designs-fundraising-event-for-life-prep-academy-02-08-2015-155778
END:VEVENT

END:VCALENDAR
