BEGIN:VCALENDAR
VERSION:2.0
PRODID:-//ChamberMaster//Event Calendar 2.0//EN
METHOD:PUBLISH
X-PUBLISHED-TTL:P3D
REFRESH-INTERVAL:P3D
CALSCALE:GREGORIAN
BEGIN:VEVENT
DTSTART:20181016T190000Z
DTEND:20181016T200000Z
X-MICROSOFT-CDO-ALLDAYEVENT:FALSE
SUMMARY:Powersports Auction - Crashed Toys
DESCRIPTION:Welcome to CrashedToys Minneapolis #311.We invite you to stop by anytime Monday through Friday between 8:00 a.m. and 5:00 p.m. to preview vehicles in person\, meet our friendly CrashedToys team and get your questions answered. You can always give us a call\, too. In the meantime\, read up on Minnesota's licensing requirements\, so you'll be ready with the documents you need to bid on the vehicles you want.
X-ALT-DESC;FMTTYPE=text/html:<span style="box-sizing: border-box\; font-weight: 700\; display: block\; color: rgb(29\, 29\, 29)\; font-family: &quot\;Open Sans&quot\;\, sans-serif\; font-size: 13px\; background-color: rgb(255\, 255\, 255)\;">Welcome to CrashedToys Minneapolis #311.</span><span style="color: rgb(29\, 29\, 29)\; font-family: &quot\;Open Sans&quot\;\, sans-serif\; font-size: 13px\; background-color: rgb(255\, 255\, 255)\;">We invite you to stop by anytime Monday through Friday between 8:00 a.m. and 5:00 p.m. to preview vehicles in person\, meet our friendly CrashedToys team and get your questions answered. You can always give us a call\, too. In the meantime\, read up on&nbsp\;</span><a href="https://www.crashedtoys.com/Content/US/EN/Licensing/United-States/Minnesota" style="box-sizing: border-box\; background-color: rgb(255\, 255\, 255)\; color: rgb(13\, 93\, 184)\; text-decoration-line: none\; cursor: pointer\; font-family: &quot\;Open Sans&quot\;\, sans-serif\; font-size: 13px\;">Minnesota&#39\;s licensing requirements</a><span style="color: rgb(29\, 29\, 29)\; font-family: &quot\;Open Sans&quot\;\, sans-serif\; font-size: 13px\; background-color: rgb(255\, 255\, 255)\;">\, so you&#39\;ll be ready with the documents you need to bid on the vehicles you want.</span>
LOCATION:10506 CENTRAL AVE NE BLAINE\, MINNESOTA 55434
UID:e.380.187270
SEQUENCE:3
DTSTAMP:20260420T140238Z
URL:http://members.metronorthchamber.org/events/details/powersports-auction-crashed-toys-187270
END:VEVENT

END:VCALENDAR
