BEGIN:VCALENDAR
VERSION:2.0
PRODID:-//ChamberMaster//Event Calendar 2.0//EN
METHOD:PUBLISH
X-PUBLISHED-TTL:P3D
REFRESH-INTERVAL:P3D
CALSCALE:GREGORIAN
BEGIN:VEVENT
DTSTART:20170509T224500Z
DTEND:20170509T233000Z
X-MICROSOFT-CDO-ALLDAYEVENT:FALSE
SUMMARY:Powers of Attorney
DESCRIPTION:Powers of Attorney: Explained & Simplified\n\nPresented by Attorney Joseph Field of Field Law\, P.A.\n\nHors De'oeuvres served 5:15 pm-5:45 pm
X-ALT-DESC;FMTTYPE=text/html:<em><span style="font-family:arial\,sans-serif\; font-size:12pt">Powers of Attorney: Explained &amp\; Simplified</span></em><br />\n<span style="font-family:arial\,sans-serif">Presented by Attorney Joseph Field of Field Law\, P.A.</span><br />\n<span style="font-family:arial\,sans-serif">Hors De&#39\;oeuvres&nbsp\;served 5:15 pm-5:45 pm</span><br />\n&nbsp\;
LOCATION:Stoney River Assisted Living & Memory Care 11401 Nowthen Blvd NW\, Ramsey\, MN 55303
UID:e.380.175013
SEQUENCE:3
DTSTAMP:20260421T152529Z
URL:http://members.metronorthchamber.org/events/details/powers-of-attorney-175013
END:VEVENT

END:VCALENDAR
