BEGIN:VCALENDAR
VERSION:2.0
PRODID:-//ChamberMaster//Event Calendar 2.0//EN
METHOD:PUBLISH
X-PUBLISHED-TTL:P3D
REFRESH-INTERVAL:P3D
CALSCALE:GREGORIAN
BEGIN:VEVENT
DTSTART:20180912T170000Z
DTEND:20180912T193000Z
X-MICROSOFT-CDO-ALLDAYEVENT:FALSE
SUMMARY:POWERHOUSE CIRCLE
DESCRIPTION:Where Powerhouses of Awesome come together!\n\nPowerhouse Circle is an opportunity to join with other amazing people who are dedicated to transforming their lives and the world.  \n\n \nLearn                    Connect                      Enjoy\n\n                            \nYou'll get to authentically connect\, enjoy a power-boosting lunch\, lift others up\, and strengthen your personal power.  We'll build community by celebrating your successes and working together to brainstorm solutions to your challenges.  You'll learn practical strategies that empower health and fulfillment.  And you'll get to enjoy being immersed in positive energy.  Together\, we are building the Tribe of Awesome!\n\n\n\nRegistration is open until noon on September 10th.\n\nSeating is very limited   reserve your seat ASAP at CoachMarisa.com!
X-ALT-DESC;FMTTYPE=text/html:<strong><span style="font-family:calibri\,sans-serif"><span style="font-size:18.0pt">Where Powerhouses of Awesome come together!</span></span></strong><br />\n<span style="font-family:verdana\,sans-serif"><span style="font-size:13.0pt">Powerhouse Circle is an opportunity to join with other amazing people who are dedicated to transforming their lives and the world.&nbsp\; </span></span><br />\n&nbsp\;\n<div><strong><span style="font-family:calibri\,sans-serif"><span style="font-size:18.0pt">Learn&nbsp\;&nbsp\;&nbsp\;&nbsp\;&nbsp\;&nbsp\;&nbsp\;&nbsp\;&nbsp\;&nbsp\;&nbsp\;&nbsp\;&nbsp\;&nbsp\;&nbsp\;&nbsp\;&nbsp\;&nbsp\;&nbsp\; Connect&nbsp\;&nbsp\;&nbsp\;&nbsp\;&nbsp\;&nbsp\;&nbsp\;&nbsp\;&nbsp\;&nbsp\;&nbsp\; &nbsp\;&nbsp\;&nbsp\;&nbsp\;&nbsp\;&nbsp\;&nbsp\;&nbsp\;&nbsp\; Enjoy</span></span></strong><br />\n&nbsp\; &nbsp\; &nbsp\; &nbsp\; &nbsp\; &nbsp\; &nbsp\; &nbsp\; &nbsp\; &nbsp\; &nbsp\; &nbsp\; &nbsp\; &nbsp\;&nbsp\;</div>\n<span style="font-family:verdana\,sans-serif"><span style="font-size:13.0pt">You&#39\;ll get to authentically connect\, enjoy a power-boosting lunch\, lift others up\, and strengthen your personal power.&nbsp\; We&#39\;ll build community by celebrating your successes and working together to brainstorm solutions to your challenges.&nbsp\; You&#39\;ll learn practical strategies that empower health and fulfillment.&nbsp\; And you&#39\;ll get to enjoy being immersed in positive energy.&nbsp\; Together\, we are building the Tribe of Awesome!<br />\n<br />\nRegistration is open until noon on September 10th.</span></span><br />\n<strong><span style="font-family:arial black\,sans-serif"><span style="font-size:13.0pt">Seating is very limited &ndash\; reserve your seat ASAP at CoachMarisa.com!</span></span></strong><br />\n<br />\n&nbsp\;
LOCATION:Blaine Fire Station #3 11920 Ulysses Street NE\, Blaine\, MN 55434
UID:e.380.186951
SEQUENCE:3
DTSTAMP:20260420T165402Z
URL:http://members.metronorthchamber.org/events/details/powerhouse-circle-186951
END:VEVENT

END:VCALENDAR
