BEGIN:VCALENDAR
VERSION:2.0
PRODID:-//ChamberMaster//Event Calendar 2.0//EN
METHOD:PUBLISH
X-PUBLISHED-TTL:P3D
REFRESH-INTERVAL:P3D
CALSCALE:GREGORIAN
BEGIN:VEVENT
DTSTART:20131211T140000Z
DTEND:20131211T163000Z
X-MICROSOFT-CDO-ALLDAYEVENT:FALSE
SUMMARY:POWERFUL SALES COMMUNICATION
DESCRIPTION:POWERFUL SALES COMMUNICATION...That Gets Results\n\n	Whether you're trying to gain your team member's support to introduce a new system\,\n\n	persuade a manager to develop a new product\, or selling your product or service to\n\n	a prospective client--it's a strong aiblity to have and one that is respected within an\n\n	organization.  \n\n\nFor more information\, go to: \n\nhttps://2013powerfulsales.eventbrite.com
X-ALT-DESC;FMTTYPE=text/html:<h2 style="color: red\;">\n	POWERFUL SALES COMMUNICATION...That Gets Results</h2>\n<div>\n	<span style="font-size: 16px\;">Whether you&#39\;re trying to gain your team member&#39\;s support to introduce a new system\,<br />\n	persuade a manager to develop a new product\, or selling your product or service to<br />\n	a prospective client--it&#39\;s a strong aiblity to have and one that is respected within an<br />\n	organization. &nbsp\;</span></div>\n<br />\n<span style="font-size: 14px\;">For more information\, go to:&nbsp\;</span><br />\n<span style="font-size:16px\;"><span style="font-family:arial\,helvetica\,sans-serif\;"><strong>https://2013powerfulsales.eventbrite.com</strong></span></span>
LOCATION:ActionCOACH MetroNorth Training Offices 6575 141st Ave NW\, Suite 100 Ramsey\, MN 55303
UID:e.380.149851
SEQUENCE:3
DTSTAMP:20260424T110824Z
URL:http://members.metronorthchamber.org/events/details/powerful-sales-communication-12-11-2013-149851
END:VEVENT

END:VCALENDAR
