BEGIN:VCALENDAR
VERSION:2.0
PRODID:-//ChamberMaster//Event Calendar 2.0//EN
METHOD:PUBLISH
X-PUBLISHED-TTL:P3D
REFRESH-INTERVAL:P3D
CALSCALE:GREGORIAN
BEGIN:VEVENT
DTSTART:20131113T140000Z
DTEND:20131113T163000Z
X-MICROSOFT-CDO-ALLDAYEVENT:FALSE
SUMMARY:POWERFUL MANAGEMENT COMMUNICATION
DESCRIPTION:POWERFUL MANAGEMENT COMMUNICATION...your words matter\n\n\n\nCommunication is essential in order to lead.  Powerful Communication is essential\n\nin order to lead with trust and inspire actions that get results.  Managers who\n\ncommunicate successfully have a greater chance of improving the area they're\n\nleading   which means success for the entire organization.\n\n\n\nFor more information\, go to: \n\nhttps://2013powerfulleading.eventbrite.com/
X-ALT-DESC;FMTTYPE=text/html:<strong><span style="color: red\;"><span style="font-family: arial\, sans-serif\;"><span style="font-size: 13.5pt\;">POWERFUL MANAGEMENT COMMUNICATION...your words matter</span></span></span></strong><br />\n<br />\n<span style="font-size: 20px\;"><strong><span style="color: rgb(89\, 89\, 89)\;"><span style="font-family: 'arial narrow'\, sans-serif\;">Communication</span></span></strong><span style="color: rgb(89\, 89\, 89)\;"><span style="font-family: 'arial narrow'\, sans-serif\;">&nbsp\;is essential in order to lead.&nbsp\;&nbsp\;<strong>Powerful Communication</strong>&nbsp\;is essential<br />\nin order to lead with trust and inspire actions that get results.&nbsp\; Managers who<br />\ncommunicate successfully have a greater chance of improving the area they&rsquo\;re<br />\nleading &ndash\; which means success for the entire organization.</span></span></span><br />\n<br />\n<span style="font-family: arial\, sans-serif\;"><span style="font-size: 10.5pt\;">For more information\, go to:&nbsp\;</span></span><br />\n<span style="font-family:arial\,helvetica\,sans-serif\;"><strong><span style="font-size:16px\;"><a href="https://2013powerfulleading.eventbrite.com/">https://2013powerfulleading.eventbrite.com/</a></span></strong></span>
LOCATION:ActionCOACH MetroNorth Training Offices 6575 141st Ave NW\, Suite 100 Ramsey\, MN 55303
UID:e.380.149852
SEQUENCE:3
DTSTAMP:20260424T124316Z
URL:http://members.metronorthchamber.org/events/details/powerful-management-communication-11-13-2013-149852
END:VEVENT

END:VCALENDAR
