BEGIN:VCALENDAR
VERSION:2.0
PRODID:-//ChamberMaster//Event Calendar 2.0//EN
METHOD:PUBLISH
X-PUBLISHED-TTL:P3D
REFRESH-INTERVAL:P3D
CALSCALE:GREGORIAN
BEGIN:VEVENT
DTSTART:20120614T163000Z
DTEND:20120614T180000Z
X-MICROSOFT-CDO-ALLDAYEVENT:FALSE
SUMMARY:Power Branding - How to Align your Business Brand with what your Customers Want!
DESCRIPTION:Now that you have learned the "MAKE IT OR BREAK IT Principle\,"* join us to learn how to distinguish yourself from others in the market and turn perception into profits!\n\nThis is a power packed session where you will learn how to\;\n\n	\n		 Find out what is important to your customers\n	\n		 Harness the power of branding as a unique competitive advantage to stand out from your competition\n	\n		 Create an ACTION PLAN to put the branding principles to work for you!\n\nCome for lunch\, presentation and networking. You will learn\, be inspired and network with others.\n\n	(*prior education on this principle is not a prerequisite to this session*)
X-ALT-DESC;FMTTYPE=text/html:Now that you have learned the<strong> &quot\;MAKE IT OR BREAK IT Principle\,&quot\;* </strong>join us to learn how to distinguish yourself from others in the market and turn perception into profits!<br />\nThis is a power packed session where you will learn how to\;\n<ul>\n	<li>\n		&nbsp\;Find out what is important to your customers</li>\n	<li>\n		&nbsp\;Harness the power of branding as a unique competitive advantage to stand out from your competition</li>\n	<li>\n		&nbsp\;Create an ACTION PLAN to put the branding principles to work for you!</li>\n</ul>\nCome for lunch\, presentation and networking. You will learn\, be inspired and network with others.\n<div style="text-align: center">\n	(*prior education on this principle is not a prerequisite to this session*)<br />\n	&nbsp\;</div>\n
LOCATION:Anoka Technical College - 1355 West Highway 10\, Anoka\, MN 55303
UID:e.380.144986
SEQUENCE:3
DTSTAMP:20260425T162156Z
URL:http://members.metronorthchamber.org/events/details/power-branding-how-to-align-your-business-brand-with-what-your-customers-want-06-14-2012-144986
END:VEVENT

END:VCALENDAR
