BEGIN:VCALENDAR
VERSION:2.0
PRODID:-//ChamberMaster//Event Calendar 2.0//EN
METHOD:PUBLISH
X-PUBLISHED-TTL:P3D
REFRESH-INTERVAL:P3D
CALSCALE:GREGORIAN
BEGIN:VEVENT
DTSTART:20170531T140000Z
DTEND:20170531T150000Z
X-MICROSOFT-CDO-ALLDAYEVENT:FALSE
SUMMARY:Pool Exercise Class
DESCRIPTION:Join us for this FUN\, ENERGETIC adult pool exercise class! Bring a pool noodle and a towel and get ready to work hard and have a BLAST while exercising.
X-ALT-DESC;FMTTYPE=text/html:Join us for this FUN\, ENERGETIC adult pool exercise class! Bring a pool noodle and a towel and get ready to work hard and have a BLAST while exercising.&nbsp\;
LOCATION:North Branch AmericInn 38675 14th Ave North Branch\, MN 55056
UID:e.380.171944
SEQUENCE:3
DTSTAMP:20260421T152248Z
URL:http://members.metronorthchamber.org/events/details/pool-exercise-class-05-31-2017-171944
END:VEVENT

END:VCALENDAR
