BEGIN:VCALENDAR
VERSION:2.0
PRODID:-//ChamberMaster//Event Calendar 2.0//EN
METHOD:PUBLISH
X-PUBLISHED-TTL:P3D
REFRESH-INTERVAL:P3D
CALSCALE:GREGORIAN
BEGIN:VEVENT
DTSTART:20120509T170000Z
DTEND:20120510T000000Z
X-MICROSOFT-CDO-ALLDAYEVENT:FALSE
SUMMARY:Pledge to Grow 2012 Event
DESCRIPTION:Hubbard Radio in partnership with other AccelerateMN businesses is proud to present the Pledge to Grow 2012 event at the U of M McNanara Alumni Center. This event will help you gain the insight\, knowledge and resources you need to take your business to the next level. More importantly you will become a member of a movement to get more people hired in Minnesota and be a catalyst for accelerating our economy and your bottom line.\n\n\n\nTickets are $69 or $95 at the door\n\nRegister online at acceleratemn.com\n\nEnter code# MNCC15 to receive $15 off the ticket when you register\n\n\n\nSchedule:\n\n12:15   1:00 Registration and Exhibit Opening\n\n1:00   2:50 Welcome and Tom Gegax\, Keynote speaker\n\n3:00   4:00 3 Breakout Sessions Available\n\n4:10   5:10 3 Breakout Sessions Available\n\n5:10   7:00 Reception and Exhibits\n\n\n\nAll attendees will receive the book "The Big Book for Small Business" by Tom Gegax.
X-ALT-DESC;FMTTYPE=text/html:<span style="font-size: 11px\;"><span style="font-family: tahoma\;">Hubbard Radio in partnership with other AccelerateMN businesses is proud to present the Pledge to Grow 2012 event at the U of M McNanara Alumni Center. This event will help you gain the insight\, knowledge and resources you need to take your business to the next level. More importantly you will become a member of a movement to get more people hired in Minnesota and be a catalyst for accelerating our economy and your bottom line.</span></span><br />\n<br />\n<span style="font-size:11px\;"><span style="font-family: tahoma\;">Tickets are $69 or $95 at the door<br />\nRegister online at <a href="http://acceleratemn.com/pledge-to-grow-2012/">acceleratemn.com</a><br />\n<strong>Enter code# MNCC15 to receive $15 off the ticket when you register</strong></span></span><br />\n<br />\n<span style="font-size:11px\;"><span style="font-family: tahoma\;">Schedule:<br />\n12:15 &ndash\; 1:00 Registration and Exhibit Opening<br />\n1:00 &ndash\; 2:50 Welcome and Tom Gegax\, Keynote speaker<br />\n3:00 &ndash\; 4:00 3 Breakout Sessions Available<br />\n4:10 &ndash\; 5:10 3 Breakout Sessions Available<br />\n5:10 &ndash\; 7:00 Reception and Exhibits</span><br />\n<br />\n<span style="font-family: tahoma\;">All attendees will receive the book &quot\;The Big Book for Small Business&quot\; by Tom Gegax.</span></span><br />\n
LOCATION:U of M McNamara Center 200 Oak St SE # 100 Minneapolis\, MN 55455-2013
UID:e.380.143803
SEQUENCE:3
DTSTAMP:20260425T180030Z
URL:http://members.metronorthchamber.org/events/details/pledge-to-grow-2012-event-05-09-2012-143803
END:VEVENT

END:VCALENDAR
