BEGIN:VCALENDAR
VERSION:2.0
PRODID:-//ChamberMaster//Event Calendar 2.0//EN
METHOD:PUBLISH
X-PUBLISHED-TTL:P3D
REFRESH-INTERVAL:P3D
CALSCALE:GREGORIAN
BEGIN:VEVENT
DTSTART:20180327T233000Z
DTEND:20180328T003000Z
X-MICROSOFT-CDO-ALLDAYEVENT:FALSE
SUMMARY:Planning for 2018
DESCRIPTION:Recent tax changes may affect your financial decisions. This workshop will include timely and useful strategies for taking a proactive approach to reviewing your overall financial picture. Join us & invite a friend.
X-ALT-DESC;FMTTYPE=text/html:<span style="font-size:14px"><span style="font-family:verdana">Recent tax changes may affect your financial decisions. This workshop will include timely and useful strategies for taking a proactive approach to reviewing your overall financial picture. Join us &amp\; invite a friend.&nbsp\;</span></span>
LOCATION:TPC Twin Cities - 11444 Tournament Players Parkway\, Blaine\, MN 55449
UID:e.380.180295
SEQUENCE:3
DTSTAMP:20260421T002741Z
URL:http://members.metronorthchamber.org/events/details/planning-for-2018-180295
END:VEVENT

END:VCALENDAR
