BEGIN:VCALENDAR
VERSION:2.0
PRODID:-//ChamberMaster//Event Calendar 2.0//EN
METHOD:PUBLISH
X-PUBLISHED-TTL:P3D
REFRESH-INTERVAL:P3D
CALSCALE:GREGORIAN
BEGIN:VEVENT
DTSTART:20200126T013000Z
DTEND:20200126T040000Z
X-MICROSOFT-CDO-ALLDAYEVENT:FALSE
SUMMARY:Pizza Party & Movie - Toy Story 4
DESCRIPTION:Parents\, bring your kids to Jam Hops while you enjoy a night out! THIS EVENT INCLUDES A PIZZA PARTY! During the event\, your child will watch a movie on our big screen projector\, and then spend time with their friends at open gym afterwards! *Bring a blanket and pillow for movie time.
X-ALT-DESC;FMTTYPE=text/html:Parents\, bring your kids to Jam Hops while you enjoy a night out! THIS EVENT INCLUDES A PIZZA PARTY! During the event\, your child will watch a movie on our big screen projector\, and then spend time with their friends at open gym afterwards! *Bring a blanket and pillow for movie time.
LOCATION:1460 133rd Lane NE\, Ham Lake
UID:e.380.191880
SEQUENCE:3
DTSTAMP:20260419T125344Z
URL:http://members.metronorthchamber.org/events/details/pizza-party-movie-toy-story-4-191880
END:VEVENT

END:VCALENDAR
