BEGIN:VCALENDAR
VERSION:2.0
PRODID:-//ChamberMaster//Event Calendar 2.0//EN
METHOD:PUBLISH
X-PUBLISHED-TTL:P3D
REFRESH-INTERVAL:P3D
CALSCALE:GREGORIAN
BEGIN:VEVENT
DTSTART:20170521T160000Z
DTEND:20170521T180000Z
X-MICROSOFT-CDO-ALLDAYEVENT:FALSE
SUMMARY:Pit Bull Rescue
DESCRIPTION:Minnesota Pit Bull Rescue Adoption Event
X-ALT-DESC;FMTTYPE=text/html:Minnesota Pit Bull Rescue Adoption Event
LOCATION:For Pet's Sake 11724 Ulysses St NE #130 Blaine\, MN 55434
UID:e.380.175003
SEQUENCE:3
DTSTAMP:20260421T152412Z
URL:http://members.metronorthchamber.org/events/details/pit-bull-rescue-175003
END:VEVENT

END:VCALENDAR
