BEGIN:VCALENDAR
VERSION:2.0
PRODID:-//ChamberMaster//Event Calendar 2.0//EN
METHOD:PUBLISH
X-PUBLISHED-TTL:P3D
REFRESH-INTERVAL:P3D
CALSCALE:GREGORIAN
BEGIN:VEVENT
DTSTART:20131214T190000Z
DTEND:20131214T220000Z
X-MICROSOFT-CDO-ALLDAYEVENT:FALSE
SUMMARY:Pictures with Santa
DESCRIPTION:Santa will be at Custom Fireplace and Chimney Care!  Bring a donation for Toys for Tots\, and you can take your own pictures with Santa.  No time limit and no requirement to buy pictures from a photographer.
X-ALT-DESC;FMTTYPE=text/html:Santa will be at Custom Fireplace and Chimney Care!&nbsp\; Bring a donation for Toys for Tots\, and you can take your own pictures with Santa.&nbsp\; No time limit and no requirement to buy pictures from a photographer.&nbsp\; 
LOCATION:Custom Fireplace and Chimney Care 9696 University Ave NW Coon Rapids\, MN 55448
UID:e.380.149927
SEQUENCE:3
DTSTAMP:20260424T111531Z
URL:http://members.metronorthchamber.org/events/details/pictures-with-santa-12-14-2013-149927
END:VEVENT

END:VCALENDAR
