BEGIN:VCALENDAR
VERSION:2.0
PRODID:-//ChamberMaster//Event Calendar 2.0//EN
METHOD:PUBLISH
X-PUBLISHED-TTL:P3D
REFRESH-INTERVAL:P3D
CALSCALE:GREGORIAN
BEGIN:VEVENT
DTSTART:20190614T160000Z
DTEND:20190614T190000Z
X-MICROSOFT-CDO-ALLDAYEVENT:FALSE
SUMMARY:Picnic & Appreciation Party - Mickman Brothers
DESCRIPTION:Join Mickman Brothers for our Customer Appreciation picnic where you can enjoy a grilled dog\, crispy chips\, a cookie\, beverage and more! Shop customer specific sales that day only! Kid's\, pets\, and the whole family welcome!\n\nDates/Days/Times: Friday\, Jun 14 Picnic:11-2\n\nAdmission cost if any: FREE\n\nLocation with exact address: Mickman Brothers Garden Center\, 14630 Hwy 65 NE\, Ham Lake\, MN 55304\n\nPublic phone/web address: 763-413-3000\, www.mickman.com
X-ALT-DESC;FMTTYPE=text/html:<span style="color: rgb(29\, 33\, 41)\; font-family: Helvetica\, Arial\, sans-serif\; font-size: 14px\; white-space: pre-wrap\; background-color: rgb(255\, 255\, 255)\;">Join Mickman Brothers for our Customer Appreciation picnic where you can enjoy a grilled dog\, crispy chips\, a cookie\, beverage and more! Shop customer specific sales that day only! Kid&#39\;s\, pets\, and the whole family welcome!</span><br style="color: rgb(29\, 33\, 41)\; font-family: Helvetica\, Arial\, sans-serif\; font-size: 14px\; white-space: pre-wrap\; background-color: rgb(255\, 255\, 255)\;" />\n<span style="color: rgb(29\, 33\, 41)\; font-family: Helvetica\, Arial\, sans-serif\; font-size: 14px\; white-space: pre-wrap\; background-color: rgb(255\, 255\, 255)\;">Dates/Days/Times: Friday\, Jun 14 Picnic:11-2</span><br style="color: rgb(29\, 33\, 41)\; font-family: Helvetica\, Arial\, sans-serif\; font-size: 14px\; white-space: pre-wrap\; background-color: rgb(255\, 255\, 255)\;" />\n<span style="color: rgb(29\, 33\, 41)\; font-family: Helvetica\, Arial\, sans-serif\; font-size: 14px\; white-space: pre-wrap\; background-color: rgb(255\, 255\, 255)\;">Admission cost if any: FREE</span><br style="color: rgb(29\, 33\, 41)\; font-family: Helvetica\, Arial\, sans-serif\; font-size: 14px\; white-space: pre-wrap\; background-color: rgb(255\, 255\, 255)\;" />\n<span style="color: rgb(29\, 33\, 41)\; font-family: Helvetica\, Arial\, sans-serif\; font-size: 14px\; white-space: pre-wrap\; background-color: rgb(255\, 255\, 255)\;">Location with exact address: Mickman Brothers Garden Center\, 14630 Hwy 65 NE\, Ham Lake\, MN 55304</span><br style="color: rgb(29\, 33\, 41)\; font-family: Helvetica\, Arial\, sans-serif\; font-size: 14px\; white-space: pre-wrap\; background-color: rgb(255\, 255\, 255)\;" />\n<span style="color: rgb(29\, 33\, 41)\; font-family: Helvetica\, Arial\, sans-serif\; font-size: 14px\; white-space: pre-wrap\; background-color: rgb(255\, 255\, 255)\;">Public phone/web address: 763-413-3000\, </span><a data-lynx-mode="hover" data-lynx-uri="https://l.facebook.com/l.php?u=http%3A%2F%2Fwww.mickman.com%2F%3Ffbclid%3DIwAR1bPQQhva2Q4H83o5lHLKy_P4rzfNae4dL8WRWxsWTPKKE7_zHnOgbxIQ4&amp\;h=AT1z8TWWCz532Zu11jErhBgBCkgWmeCTsSwOlgJ38zBVLiEw-NE_XJ3JrJPUN7bqUNXIHKeG_7gtI1Kk1cNh8VBhXdYH3bGNLdLrrh-Cmhi8IDzlT9yJgQOQJGKnGg02YA" href="http://www.mickman.com/?fbclid=IwAR1bPQQhva2Q4H83o5lHLKy_P4rzfNae4dL8WRWxsWTPKKE7_zHnOgbxIQ4" rel="nofollow noopener" style="color: rgb(56\, 88\, 152)\; cursor: pointer\; text-decoration-line: none\; font-family: Helvetica\, Arial\, sans-serif\; font-size: 14px\; white-space: pre-wrap\; background-color: rgb(255\, 255\, 255)\;" target="_blank">www.mickman.com</a>
LOCATION:
UID:e.380.190526
SEQUENCE:3
DTSTAMP:20260420T003647Z
URL:http://members.metronorthchamber.org/events/details/picnic-appreciation-party-mickman-brothers-190526
END:VEVENT

END:VCALENDAR
