BEGIN:VCALENDAR
VERSION:2.0
PRODID:-//ChamberMaster//Event Calendar 2.0//EN
METHOD:PUBLISH
X-PUBLISHED-TTL:P3D
REFRESH-INTERVAL:P3D
CALSCALE:GREGORIAN
BEGIN:VEVENT
DTSTART:20171224T023000Z
DTEND:20171224T060000Z
X-MICROSOFT-CDO-ALLDAYEVENT:FALSE
SUMMARY:Piano Party
DESCRIPTION:Piano Party at Moe's every 4th Saturday 8:30 - MIDNIGHT\n\nSing\, Laugh and have Fun!\n\nPlus 1/2 Price Bottles of Wine\n\nFeaturing Daina De Prez Piano Entertainer
X-ALT-DESC;FMTTYPE=text/html:Piano Party at Moe&#39\;s every 4th Saturday 8:30 - MIDNIGHT<br />\nSing\, Laugh and have Fun!<br />\nPlus 1/2 Price Bottles of Wine<br />\nFeaturing Daina De Prez Piano Entertainer
LOCATION:Moe's Restaurant 2400 Highway 10 Mounds View\, MN 55112
UID:e.380.179128
SEQUENCE:3
DTSTAMP:20260421T051618Z
URL:http://members.metronorthchamber.org/events/details/piano-party-12-23-2017-179128
END:VEVENT

END:VCALENDAR
