BEGIN:VCALENDAR
VERSION:2.0
PRODID:-//ChamberMaster//Event Calendar 2.0//EN
METHOD:PUBLISH
X-PUBLISHED-TTL:P3D
REFRESH-INTERVAL:P3D
CALSCALE:GREGORIAN
BEGIN:VEVENT
DTSTART:20140614T200000Z
DTEND:20140615T045500Z
X-MICROSOFT-CDO-ALLDAYEVENT:FALSE
SUMMARY:Patio Opening Party at The Well!
DESCRIPTION:Join us for our Patio Opening Party on Saturday\, June 14th!\n\n\n\nBeer flows and Build your own burger bar from 3-5pm\,\n\nBand starts at 7pm and all only for $10!\n\n\n\nBean bag tourney will start at 5pm\, $10 per\, 100% payout\,\n\nL.O.D. and double elimination.
X-ALT-DESC;FMTTYPE=text/html:<div style="text-align: center\;">&nbsp\;</div>\n\n<div style="text-align: center\;"><span style="font-size:16px\;"><span style="color: rgb(0\, 0\, 128)\;"><span style="font-family: tahoma\;"><strong>Join us for our Patio Opening Party on Saturday\, June 14th!</strong></span></span></span><br />\n<br />\n<span style="color:#000080\;"><span style="font-family: tahoma\;"><span style="font-size: 16px\;">Beer flows and Build your own burger bar from 3-5pm\,<br />\nBand starts at 7pm and all only for $10!<br />\n<br />\nBean bag tourney will start at 5pm\, $10 per\, 100% payout\,<br />\nL.O.D. and double elimination.</span></span></span><br />\n&nbsp\;</div>\n
LOCATION:The Well Sports Tavern & Grill 35 Coon Rapids Boulevard NW
UID:e.380.151269
SEQUENCE:3
DTSTAMP:20260424T012954Z
URL:http://members.metronorthchamber.org/events/details/patio-opening-party-at-the-well-06-14-2014-151269
END:VEVENT

END:VCALENDAR
