BEGIN:VCALENDAR
VERSION:2.0
PRODID:-//ChamberMaster//Event Calendar 2.0//EN
METHOD:PUBLISH
X-PUBLISHED-TTL:P3D
REFRESH-INTERVAL:P3D
CALSCALE:GREGORIAN
BEGIN:VEVENT
DTSTART:20171118T010000Z
DTEND:20171118T033000Z
X-MICROSOFT-CDO-ALLDAYEVENT:FALSE
SUMMARY:Party! - Adult Class\, Haitian Chocolate Benefit for Feed My Starving Children
DESCRIPTION:Join Boardwalk DIY Studio for our Chocolate Night - Benefiting the Coon Rapids\, Feed My Starving Children.  Founded in 1987\, Feed My Starving Children (FMSC) is a Christian non-profit that provides nutritionally complete meals specifically formulated for malnourished children.\n\nWe will be featuring Haitian Dark Chocolate\, Chocolate Strawberries and other treats.  Feel free to BYOB.
X-ALT-DESC;FMTTYPE=text/html:<p>Join <a href="http://www.boardwalkdiy.us" target="_blank">Boardwalk DIY Studio</a> for our Chocolate Night - Benefiting the Coon Rapids\, Feed My Starving Children.&nbsp\;&nbsp\;Founded in 1987\,&nbsp\;<a href="https://www.fmsc.org/" style="background: transparent\; color: rgb(203\, 92\, 77)\; text-decoration-line: none\; transition: color 100ms ease-in-out\, border-color 100ms ease-in-out\; word-wrap: break-word\;" target="_blank">Feed My Starving Children</a>&nbsp\;(FMSC) is a Christian non-profit that provides nutritionally complete meals specifically formulated for malnourished children.</p>\n\n<p>We will be featuring Haitian Dark Chocolate\, Chocolate Strawberries and other treats.&nbsp\; Feel free to BYOB.</p>\n
LOCATION:BOARDWALK DIY STUDIO 1574 154TH AVE NW STUDIO 107B ANDOVER\, MN 55304
UID:e.380.179239
SEQUENCE:3
DTSTAMP:20260421T071432Z
URL:http://members.metronorthchamber.org/events/details/party-adult-class-haitian-chocolate-benefit-for-feed-my-starving-children-179239
END:VEVENT

END:VCALENDAR
