BEGIN:VCALENDAR
VERSION:2.0
PRODID:-//ChamberMaster//Event Calendar 2.0//EN
METHOD:PUBLISH
X-PUBLISHED-TTL:P3D
REFRESH-INTERVAL:P3D
CALSCALE:GREGORIAN
BEGIN:VEVENT
DTSTART:20181219T141500Z
DTEND:20181219T144500Z
X-MICROSOFT-CDO-ALLDAYEVENT:FALSE
SUMMARY:Panera Bread Ribbon Cutting
DESCRIPTION:Join us for a ribbon cutting of the new Panera Bread in Blaine!\n\n(Across from Target)
X-ALT-DESC;FMTTYPE=text/html:J<span style="display: inline !important\; float: none\; background-color: transparent\; color: rgb(0\, 0\, 0)\; cursor: text\; font-family: Calibri\; font-size: 16px\; font-style: normal\; font-variant: normal\; font-weight: 400\; letter-spacing: normal\; line-height: 25.6px\; orphans: 2\; text-align: left\; text-decoration: none\; text-indent: 0px\; text-transform: none\; -webkit-text-stroke-width: 0px\; white-space: normal\; word-spacing: 0px\;">oin us for a ribbon cutting of the new Panera Bread in Blaine!<br />\n(Across from Target)</span>
LOCATION:1530 109th Ave NE Blaine 55449
UID:e.380.187506
SEQUENCE:3
DTSTAMP:20260420T104451Z
URL:http://members.metronorthchamber.org/events/details/panera-bread-ribbon-cutting-187506
END:VEVENT

END:VCALENDAR
