BEGIN:VCALENDAR
VERSION:2.0
PRODID:-//ChamberMaster//Event Calendar 2.0//EN
METHOD:PUBLISH
X-PUBLISHED-TTL:P3D
REFRESH-INTERVAL:P3D
CALSCALE:GREGORIAN
BEGIN:VEVENT
DTSTART:20180429T130000Z
DTEND:20180429T170000Z
X-MICROSOFT-CDO-ALLDAYEVENT:FALSE
SUMMARY:Pancake Breakfast - SLP Lions Club
DESCRIPTION:Spring Lake Park Lions all-you-can-eat breakfast!\n\nSunday\, April 29th 8 a.m.   noon\n\nSpring Lake Park High School Door #33\n\nBring the family and enjoy pancakes\,\n\nfrench toast\, sausage\, scrambled\n\neggs\, juice\, coffee\, and milk!\n\nFace painting   Craft sale   Bake sale   Community Exhibits\n\nDonate used eyeglasses\, hearing aids\, ink cartridges\, cell phones\n\nFree cholesterol screenings by The Wellness Van
X-ALT-DESC;FMTTYPE=text/html:<p style="box-sizing: border-box\; margin: 0px 0px 10px\; line-height: 1.7\; color: rgb(116\, 116\, 116)\; font-family: &quot\;Open Sans&quot\;\, Arial\, Helvetica\, sans-serif\; font-size: 15px\; background-color: rgb(255\, 255\, 255)\;">Spring Lake Park Lions all-you-can-eat breakfast!</p>\n\n<p style="box-sizing: border-box\; margin: 0px 0px 10px\; line-height: 1.7\; color: rgb(116\, 116\, 116)\; font-family: &quot\;Open Sans&quot\;\, Arial\, Helvetica\, sans-serif\; font-size: 15px\; background-color: rgb(255\, 255\, 255)\;">Sunday\, April 29th 8 a.m. &ndash\; noon<br style="box-sizing: border-box\;" />\nSpring Lake Park High School Door #33</p>\n\n<p style="box-sizing: border-box\; margin: 0px 0px 10px\; line-height: 1.7\; color: rgb(116\, 116\, 116)\; font-family: &quot\;Open Sans&quot\;\, Arial\, Helvetica\, sans-serif\; font-size: 15px\; background-color: rgb(255\, 255\, 255)\;">Bring the family and enjoy pancakes\,<br style="box-sizing: border-box\;" />\nfrench toast\, sausage\, scrambled<br style="box-sizing: border-box\;" />\neggs\, juice\, coffee\, and milk!</p>\n\n<p style="box-sizing: border-box\; margin: 0px 0px 10px\; line-height: 1.7\; color: rgb(116\, 116\, 116)\; font-family: &quot\;Open Sans&quot\;\, Arial\, Helvetica\, sans-serif\; font-size: 15px\; background-color: rgb(255\, 255\, 255)\;">Face painting &bull\; Craft sale &bull\; Bake sale &bull\; Community Exhibits<br style="box-sizing: border-box\;" />\nDonate used eyeglasses\, hearing aids\, ink cartridges\, cell phones<br style="box-sizing: border-box\;" />\nFree cholesterol screenings by The Wellness Van</p>\n
LOCATION:Spring Lake Park High School 1100 81st Ave NE Spring Lake Park\, MN 55432
UID:e.380.184802
SEQUENCE:3
DTSTAMP:20260420T231103Z
URL:http://members.metronorthchamber.org/events/details/pancake-breakfast-slp-lions-club-184802
END:VEVENT

END:VCALENDAR
