BEGIN:VCALENDAR
VERSION:2.0
PRODID:-//ChamberMaster//Event Calendar 2.0//EN
METHOD:PUBLISH
X-PUBLISHED-TTL:P3D
REFRESH-INTERVAL:P3D
CALSCALE:GREGORIAN
BEGIN:VEVENT
DTSTART:20130921T133000Z
DTEND:20130921T163000Z
X-MICROSOFT-CDO-ALLDAYEVENT:FALSE
SUMMARY:Pancake Breakfast\; Fundraiser for Global Student Leaders
DESCRIPTION:Pancake Breakfast fundraiser for twelve Northwest Passage students who will be going to China in March as part of the Global Student Leaders Summit.
X-ALT-DESC;FMTTYPE=text/html:Pancake Breakfast fundraiser for twelve Northwest Passage students who will be going to China in March as part of the Global Student Leaders Summit.
LOCATION:Northwest Passage High School 11345 Robinson Dr
UID:e.380.149514
SEQUENCE:3
DTSTAMP:20260424T161751Z
URL:http://members.metronorthchamber.org/events/details/pancake-breakfast-fundraiser-for-global-student-leaders-09-21-2013-149514
END:VEVENT

END:VCALENDAR
