BEGIN:VCALENDAR
VERSION:2.0
PRODID:-//ChamberMaster//Event Calendar 2.0//EN
METHOD:PUBLISH
X-PUBLISHED-TTL:P3D
REFRESH-INTERVAL:P3D
CALSCALE:GREGORIAN
BEGIN:VEVENT
DTSTART:20130907T210000Z
DTEND:20130908T020000Z
X-MICROSOFT-CDO-ALLDAYEVENT:FALSE
SUMMARY:Pamper Night for Ladies!
DESCRIPTION:Join us for a Pamper Night for Ladies!\n\n\n\nGrab your girlfriends for a FUN evening of \n\n	\n		Jewelry\n	\n		Massages\n	\n		Chocolate\n	\n		Lotions\n	\n		Jeans\n	\n		Candles\n	\n		Make-up\n	\n		Purses\n	\n		Beauty Services\n	\n		Pure Romance\n	\n		$4 Raspberry Mimosa\n	\n		and much more!\n\nFREE Admission  (Must be 18+ / 21+ to drink)\n\nFREE Raffle\n\nFREE Fondue Snacks\n\nChange to WIN a Pamper Package\n\n\n\nGabe's Rinkside Bar & Grill\n\n9250 Lincoln Street NE\, Blaine\n\nSaturday\, Sept 7th 4-9pm\n\n\n\nMore info on our website: www.atouchofclassevents.weebly.com\n\nLike us on Facebook: www.facebook.com/atoc.purses
X-ALT-DESC;FMTTYPE=text/html:<strong>Join us for a Pamper Night for Ladies!</strong><br />\n<br />\nGrab your girlfriends for a FUN evening of&hellip\;\n<ul>\n	<li>\n		Jewelry</li>\n	<li>\n		Massages</li>\n	<li>\n		Chocolate</li>\n	<li>\n		Lotions</li>\n	<li>\n		Jeans</li>\n	<li>\n		Candles</li>\n	<li>\n		Make-up</li>\n	<li>\n		Purses</li>\n	<li>\n		Beauty Services</li>\n	<li>\n		Pure Romance</li>\n	<li>\n		$4 Raspberry Mimosa</li>\n	<li>\n		and much more!</li>\n</ul>\nFREE Admission &nbsp\;(Must be 18+ / 21+ to drink)<br />\nFREE Raffle<br />\nFREE Fondue Snacks<br />\nChange to WIN a Pamper Package<br />\n<br />\nGabe&rsquo\;s Rinkside Bar &amp\; Grill<br />\n9250 Lincoln Street NE\, Blaine<br />\nSaturday\, Sept 7<sup>th</sup> 4-9pm<br />\n<br />\nMore info on our website: <a href="http://www.atouchofclassevents.weebly.com">www.atouchofclassevents.weebly.com</a><br />\nLike us on Facebook: <a href="http://www.facebook.com/atoc.purses">www.facebook.com/atoc.purses</a>
LOCATION:Gabe's Rinkside Bar & Grill 9250 Lincoln Street NE\, Blaine
UID:e.380.149296
SEQUENCE:3
DTSTAMP:20260424T161919Z
URL:http://members.metronorthchamber.org/events/details/pamper-night-for-ladies-09-07-2013-149296
END:VEVENT

END:VCALENDAR
