BEGIN:VCALENDAR
VERSION:2.0
PRODID:-//ChamberMaster//Event Calendar 2.0//EN
METHOD:PUBLISH
X-PUBLISHED-TTL:P3D
REFRESH-INTERVAL:P3D
CALSCALE:GREGORIAN
BEGIN:VEVENT
DTSTART:20140228T230000Z
DTEND:20140301T030000Z
X-MICROSOFT-CDO-ALLDAYEVENT:FALSE
SUMMARY:Pamper Night for Ladies
DESCRIPTION:Pamper Night for Ladies!\n\n	Join us for a Pamper Night for Ladies!\n\n	Grab your girlfriends for a FUN evening of \n\n	Jewelry\, FREE Massages\, Chocolate\, Lotions\, Jeans\, Candles\, Make-up\, Purses\, Beauty Services\, Pure Romance\, $4 Raspberry Mimosa\, and much more!\n\n	FREE Admission  (Must be 18+ / 21+ to drink)\n\n	FREE Raffle*\n\n	FREE Snacks\n\n	Change to WIN a Pamper Package or a Gift Certificate to Gabe's Rinkside Bar & Grill*\n\n	Gabe's Rinkside Bar & Grill\n\n	9250 Lincoln Street NE\, Blaine\n\n	Friday\, March 28th 5-9pm\n\n	More info on our website: www.ATOCEventPlanning.com\n\n	Like us on Facebook: www.facebook.com/ATOCEventPlanning\n\n	*Must be present to Win!
X-ALT-DESC;FMTTYPE=text/html:<p class="MsoNormal">\n	Pamper Night for Ladies!</p>\n<p class="MsoNormal">\n	Join us for a Pamper Night for Ladies!</p>\n<p class="MsoNormal">\n	Grab your girlfriends for a FUN evening of&hellip\;</p>\n<p class="MsoNormal">\n	Jewelry\, FREE Massages\, Chocolate\, Lotions\, Jeans\, Candles\, Make-up\, Purses\, Beauty Services\, Pure Romance\, $4 Raspberry Mimosa\, and much more!</p>\n<p class="MsoNormal">\n	FREE Admission&nbsp\; (Must be 18+ / 21+ to drink)</p>\n<p class="MsoNormal">\n	FREE Raffle*</p>\n<p class="MsoNormal">\n	FREE Snacks</p>\n<p class="MsoNormal">\n	Change to WIN a Pamper Package or a Gift Certificate to Gabe&rsquo\;s Rinkside Bar &amp\; Grill*</p>\n<p class="MsoNormal">\n	Gabe&rsquo\;s Rinkside Bar &amp\; Grill</p>\n<p class="MsoNormal">\n	9250 Lincoln Street NE\, Blaine</p>\n<p class="MsoNormal">\n	Friday\, March 28<sup>th</sup> 5-9pm</p>\n<p class="MsoNormal">\n	More info on our website: <a href="http://www.atoceventplanning.com/">www.ATOCEventPlanning.com</a></p>\n<p class="MsoNormal">\n	Like us on Facebook: <a href="http://www.facebook.com/ATOCEventPlanning">www.facebook.com/ATOCEventPlanning</a></p>\n<p class="MsoNormal">\n	*Must be present to Win!</p>\n
LOCATION:Gabe's Rinkside Bar & Grill - 9250 Lincoln Street NE\, Blaine\, MN 55434
UID:e.380.150148
SEQUENCE:3
DTSTAMP:20260424T092920Z
URL:http://members.metronorthchamber.org/events/details/pamper-night-for-ladies-02-28-2014-150148
END:VEVENT

END:VCALENDAR
