BEGIN:VCALENDAR
VERSION:2.0
PRODID:-//ChamberMaster//Event Calendar 2.0//EN
METHOD:PUBLISH
X-PUBLISHED-TTL:P3D
REFRESH-INTERVAL:P3D
CALSCALE:GREGORIAN
BEGIN:VEVENT
DTSTART:20140913T210000Z
DTEND:20140914T020000Z
X-MICROSOFT-CDO-ALLDAYEVENT:FALSE
SUMMARY:Pamper Me Pretty expo
DESCRIPTION:Ladies grab your girlfriends and join us for "Pamper Me Pretty" expo! FREE Admission!\n\n\n\nWe will have FREE appetizers for you and several FREE raffles throughout the evening for you to have a chance to win a Pamper Package full of great gifts.\n\n\n\nThere will be FREE massages\,  FREE Henna Tattoos\,  FREE head shots when you visit Connie with Arbonne & Jenny at Divine Photography booth\, and plenty of other great vendors to visit such as Pure Romance\, Scentsy\, Miche\, Jamberry Nails\, Mary Kay\, Essential Bodywear\, and much more!\n\n\n\nMust be 18+ / 21+ to drink\n\n\n\nGabe's Rinkside Bar & Grill\n\n9250 Lincoln Street NE\, Blaine\n\nSaturday\, Sept 13th  4-9pm\n\n\n\nMore info on our events at: http://www.atoceventplanning.com/\n\n\n\nBe sure to like us on Facebook also: https://www.facebook.com/atoceventplanning
X-ALT-DESC;FMTTYPE=text/html:Ladies grab your girlfriends and join us for &ldquo\;Pamper Me Pretty&rdquo\; expo! FREE Admission!<br />\n<br />\nWe will have FREE appetizers for you and several FREE raffles throughout the evening for you to have a chance to win a Pamper Package full of great gifts.<br />\n<br />\nThere will be FREE massages\, &nbsp\;FREE Henna Tattoos\, &nbsp\;FREE head shots when you visit Connie&nbsp\;with Arbonne&nbsp\;&amp\; Jenny at Divine Photography booth\, and plenty of other great vendors to visit such as Pure Romance\, Scentsy\, Miche\, Jamberry Nails\, Mary Kay\, Essential Bodywear\, and much more!<br />\n<br />\nMust be 18+ / 21+ to drink<br />\n<br />\nGabe&rsquo\;s Rinkside Bar &amp\; Grill<br />\n9250 Lincoln Street NE\, Blaine<br />\nSaturday\, Sept 13<sup>th</sup> &nbsp\;4-9pm<br />\n<br />\nMore info on our events at: <a href="http://www.atoceventplanning.com/">http://www.atoceventplanning.com/</a><br />\n<br />\nBe sure to like us on Facebook also: <a href="https://www.facebook.com/atoceventplanning">https://www.facebook.com/atoceventplanning</a>
LOCATION:Gabe's Rinkside Bar & Grill 9250 Lincoln Street NE\, Blaine
UID:e.380.151547
SEQUENCE:3
DTSTAMP:20260423T205929Z
URL:http://members.metronorthchamber.org/events/details/pamper-me-pretty-expo-09-13-2014-151547
END:VEVENT

END:VCALENDAR
