BEGIN:VCALENDAR
VERSION:2.0
PRODID:-//ChamberMaster//Event Calendar 2.0//EN
METHOD:PUBLISH
X-PUBLISHED-TTL:P3D
REFRESH-INTERVAL:P3D
CALSCALE:GREGORIAN
BEGIN:VEVENT
DTSTART:20150303T220000Z
DTEND:20150303T230000Z
X-MICROSOFT-CDO-ALLDAYEVENT:FALSE
SUMMARY:Pad Thai Cuisine Ribbon Cutting
DESCRIPTION:Join us to celebrate Pad Thai Cuisine's Grand Opening! Come help us celebrate\, while enjoying food samples from Pad Thai Cuisine.\n\n\n\nThe ribbon will be cut at 4:30pm
X-ALT-DESC;FMTTYPE=text/html:Join us&nbsp\;to celebrate&nbsp\;Pad Thai Cuisine&#39\;s Grand&nbsp\;Opening! Come help us celebrate\, while enjoying food samples from Pad Thai Cuisine.<br />\n<br />\nThe ribbon will be cut at 4:30pm
LOCATION:Pad Thai Cuisine\, 15190 Bluebird Street NW Suite 107 Andover.
UID:e.380.155781
SEQUENCE:3
DTSTAMP:20260423T112029Z
URL:http://members.metronorthchamber.org/events/details/pad-thai-cuisine-ribbon-cutting-03-03-2015-155781
END:VEVENT

END:VCALENDAR
