BEGIN:VCALENDAR
VERSION:2.0
PRODID:-//ChamberMaster//Event Calendar 2.0//EN
METHOD:PUBLISH
X-PUBLISHED-TTL:P3D
REFRESH-INTERVAL:P3D
CALSCALE:GREGORIAN
BEGIN:VEVENT
DTSTART:20190914T143000Z
DTEND:20190914T170000Z
X-MICROSOFT-CDO-ALLDAYEVENT:FALSE
SUMMARY:Packed With Love 5K Fun Run/Walk
DESCRIPTION:WoMN Strong is partnering with The Sheridan Story\, a local non-profit dedicated to ending child hunger.  We are sponsoring all children in need at University Elementary School in Blaine\, MN to provide weekend food packs for the 2019-20 academic year.  Our fundraising goal is $10\,000.00. \n\nCome run or walk with us to reach our goal! \n\nInvite your friends and family as we run from Aquatore Park around Cloverleaf neighborhood.\n\n\n\n\n\nRegister and Learn More\n\n\n\nWant to be a sponsor? Click here!
X-ALT-DESC;FMTTYPE=text/html:<p>WoMN Strong is partnering with <a href="https://www.thesheridanstory.org/" target="_blank">The Sheridan Story</a>\, a local non-profit dedicated to ending child hunger.&nbsp\; We are sponsoring all children in need at University Elementary School in Blaine\, MN to provide weekend food packs for the 2019-20 academic year.&nbsp\; Our fundraising goal is $10\,000.00.&nbsp\;</p>\n\n<p style="text-align:center"><strong>Come run or walk with us to reach our goal! </strong><br />\n<strong>Invite your friends and family as we run from Aquatore Park around Cloverleaf neighborhood.</strong><br />\n<br />\n<br />\n<a href="https://www.womnstrong.org/packed-with-love-5k"><strong>Register and Learn More</strong></a><br />\n<br />\n<strong>Want to be a sponsor? </strong><a href="https://static1.squarespace.com/static/593ec589e6f2e102a25c2a71/t/5ce1f43c306d590001ce5d79/1558311998390/Race+Sponsor+Levels+2019.pdf">Click here!</a><br />\n<br />\n&nbsp\;</p>\n
LOCATION:Aquatore Park 9191 Lincoln Street Northeast Blaine\, MN\, 55434
UID:e.380.189486
SEQUENCE:3
DTSTAMP:20260419T192919Z
URL:http://members.metronorthchamber.org/events/details/packed-with-love-5k-fun-run-walk-189486
END:VEVENT

END:VCALENDAR
