BEGIN:VCALENDAR
VERSION:2.0
PRODID:-//ChamberMaster//Event Calendar 2.0//EN
METHOD:PUBLISH
X-PUBLISHED-TTL:P3D
REFRESH-INTERVAL:P3D
CALSCALE:GREGORIAN
BEGIN:VEVENT
DTSTART:20150721T211500Z
DTEND:20150721T214500Z
X-MICROSOFT-CDO-ALLDAYEVENT:FALSE
SUMMARY:Pacific Union Financial Ribbon Cutting
DESCRIPTION:The Pacific Union Fanancial Ribbon Cutting is to celebrate the new Arden Hills Branch opening.
X-ALT-DESC;FMTTYPE=text/html:The Pacific Union&nbsp\;Fanancial Ribbon Cutting is to celebrate the new Arden Hills Branch opening.
LOCATION:3900 Northwoods Drive Suite 107 Arden Hills\, MN 55112
UID:e.380.157784
SEQUENCE:3
DTSTAMP:20260423T054641Z
URL:http://members.metronorthchamber.org/events/details/pacific-union-financial-ribbon-cutting-07-21-2015-157784
END:VEVENT

END:VCALENDAR
