BEGIN:VCALENDAR
VERSION:2.0
PRODID:-//ChamberMaster//Event Calendar 2.0//EN
METHOD:PUBLISH
X-PUBLISHED-TTL:P3D
REFRESH-INTERVAL:P3D
CALSCALE:GREGORIAN
BEGIN:VEVENT
DTSTART:20160804T230000Z
DTEND:20160805T040000Z
X-MICROSOFT-CDO-ALLDAYEVENT:FALSE
SUMMARY:P.O.D. & Drowning Pool at Running Aces
DESCRIPTION:P.O.D. & Drowning Pool\n\nwith Throw The Fight\n\nThursday\, August 4 at 7pm\n\nDoors Open at 6pm\n\nTickets:\n\nGeneral Admission - $30 Advance / $40 Day of Event\n\nVIP Party Pack - $43.75 (Ticket for reserved picnic table seat - 8 seats/table\, Miller Lite)\n\nVIP Meet & Greet - $125 (GA ticket and Meet & Greet with P.O.D. & Drowning Pool *subject to change)\n\nRain or shine. All ages. Tickets are limited and non-refundable.
X-ALT-DESC;FMTTYPE=text/html:<p><strong>P.O.D. &amp\; Drowning Pool<br />\nwith Throw The Fight</strong><br />\nThursday\, August 4 at 7pm<br />\nDoors Open at 6pm</p>\n\n<p><strong>Tickets:</strong><br />\nGeneral Admission - $30 Advance / $40 Day of Event<br />\nVIP Party Pack - $43.75 (Ticket for reserved picnic table seat - 8 seats/table\, Miller Lite)<br />\nVIP Meet &amp\; Greet - $125 (GA ticket and Meet &amp\; Greet with P.O.D. &amp\; Drowning Pool *subject to change)</p>\n\n<p><em>Rain or shine. All ages. Tickets are limited and non-refundable.</em></p>\n
LOCATION:
UID:e.380.168877
SEQUENCE:3
DTSTAMP:20260422T065622Z
URL:http://members.metronorthchamber.org/events/details/p-o-d-drowning-pool-at-running-aces-08-04-2016-168877
END:VEVENT

END:VCALENDAR
