BEGIN:VCALENDAR
VERSION:2.0
PRODID:-//ChamberMaster//Event Calendar 2.0//EN
METHOD:PUBLISH
X-PUBLISHED-TTL:P3D
REFRESH-INTERVAL:P3D
CALSCALE:GREGORIAN
BEGIN:VEVENT
DTSTART:20170119T233000Z
DTEND:20170120T000000Z
X-MICROSOFT-CDO-ALLDAYEVENT:FALSE
SUMMARY:Own an Award Winning Franchise in Minnesota
DESCRIPTION:Please join us for a FREE 30 minute seminar to learn about 6 award winning franchises right in your own backyard! That's right - United Franchise Group is a 30 year franchising company with 6 award winning franchises - all available in Minnesota!\n\n6 different industries to pick from - Be your own BOSS - Let us help you start 2017 on the track to business ownership.\n\n\n\nAT THIS FREE SEMINAR YOU WILL LEARN ABOUT:\n\n\n	Several FAST growing\, affordable\, scalable franchise companies.\n	A Franchise Industry Overview\n	6 Award Winning Franchises Available in Minnesota\n	Financing Options For Your Franchise Business\n\n\nDRAWING FOR GIFT CARDS!
X-ALT-DESC;FMTTYPE=text/html:<p><span style="font-size:14px">Please join us for a FREE 30 minute seminar to learn about&nbsp\;<strong>6 award winning franchises</strong>&nbsp\;right in your own backyard! That&#39\;s right - United Franchise Group is a 30 year franchising company with 6 award winning franchises - all available in Minnesota!</span></p>\n\n<p><span style="font-size:14px">6 different industries to pick from -&nbsp\;<strong>Be your own BOSS</strong>&nbsp\;- Let us help you start 2017 on the track to business ownership.<br />\n<br />\n<span style="color:#4B0082"><strong>AT THIS FREE SEMINAR YOU WILL LEARN ABOUT:</strong></span></span></p>\n\n<ul>\n	<li><span style="font-size:14px">Several FAST growing\, affordable\, scalable franchise companies.</span></li>\n	<li><span style="font-size:14px">A Franchise Industry Overview</span></li>\n	<li><span style="font-size:14px">6 Award Winning Franchises Available in Minnesota</span></li>\n	<li><span style="font-size:14px">Financing Options For Your Franchise Business</span></li>\n</ul>\n\n<p style="text-align:center"><span style="color:#FF0000"><span style="font-size:14px"><strong>DRAWING FOR GIFT CARDS!</strong></span></span></p>\n
LOCATION:La Quinta Inn & Suites Minneapolis-Minnetonka 10420 Wayzata Blvd MInnetonka\, MN 55305 952-541-1094
UID:e.380.171409
SEQUENCE:3
DTSTAMP:20260421T221814Z
URL:http://members.metronorthchamber.org/events/details/own-an-award-winning-francoise-in-minnesota-171409
END:VEVENT

END:VCALENDAR
