BEGIN:VCALENDAR
VERSION:2.0
PRODID:-//ChamberMaster//Event Calendar 2.0//EN
METHOD:PUBLISH
X-PUBLISHED-TTL:P3D
REFRESH-INTERVAL:P3D
CALSCALE:GREGORIAN
BEGIN:VEVENT
DTSTART:20171113T230000Z
DTEND:20171114T043000Z
X-MICROSOFT-CDO-ALLDAYEVENT:FALSE
SUMMARY:Outback Steakhouse VIP Holiday Party
DESCRIPTION:We ask you to join us at the\n\nCoon Rapids Outback Steakhouse\n\nfor our VIP Holiday Party!\n\n \n\nCome in\, relax and enjoy a night on us!\n\nAppetizers and non-alcoholic beverages will be provided and we will have a *raffle to receive AUSSome prizes! Games will be taking place- so bring all of your mates for some bloomin' FUN!!\n\n \n\n*For every $50 in gift cards bought you will receive a $10 bonus card and a raffle ticket to be used on one of the many great prizes we are giving away!
X-ALT-DESC;FMTTYPE=text/html:<div style="text-align: center\;"><span style="font-family:cambria\,serif"><span style="font-size:16.0pt">We ask you to join us at the</span></span><br />\n<span style="font-family:cambria\,serif"><span style="font-size:16.0pt">Coon Rapids Outback Steakhouse</span></span><br />\n<span style="font-family:cambria\,serif"><span style="font-size:16.0pt">for our VIP Holiday Party!</span></span><br />\n&nbsp\;<br />\n<span style="font-family:cambria\,serif"><span style="font-size:14.0pt">Come in\, relax and enjoy a night on us!</span></span><br />\n<span style="font-family:cambria\,serif"><span style="font-size:14.0pt">Appetizers and non-alcoholic beverages will be provided and we will have a *raffle to receive AUSSome prizes! Games will be taking place- so bring all of your mates for some bloomin&rsquo\; FUN!!</span></span><br />\n&nbsp\;<br />\n<span style="font-family:cambria\,serif"><span style="font-size:12.0pt">*For every $50 in gift cards bought you will receive a $10 bonus card and a raffle ticket to be used on one of the many great prizes we are giving away!</span></span></div>\n
LOCATION:Outback Steakhouse Coon Rapids 8880 Springbrook Drive Coon Rapids MN 55433
UID:e.380.179261
SEQUENCE:3
DTSTAMP:20260421T071239Z
URL:http://members.metronorthchamber.org/events/details/outback-steakhouse-vip-holiday-party-179261
END:VEVENT

END:VCALENDAR
