BEGIN:VCALENDAR
VERSION:2.0
PRODID:-//ChamberMaster//Event Calendar 2.0//EN
METHOD:PUBLISH
X-PUBLISHED-TTL:P3D
REFRESH-INTERVAL:P3D
CALSCALE:GREGORIAN
BEGIN:VEVENT
DTSTART:20191206T200000Z
DTEND:20191207T020000Z
X-MICROSOFT-CDO-ALLDAYEVENT:FALSE
SUMMARY:Out of the Cold KickOff
DESCRIPTION:Ensure Youth Experiencing Homelessness Are Never Left Out in the Cold Again.\n\nOn any given night in Minnesota\, 6\,000 young people have no place to call home. HOPE 4 Youth is working to change that and we need your help! You can help bring youth experiencing homelessness inside by attending one of our two Out of the Cold events\, or hosting your own Out of the Cold this December.\n\n\nWhat   Join HOPE 4 Youth\, KDWB's Dave Ryan\, and friends for a fun-filled evening as we work to bring youth experiencing homelessness Out of the Cold.\n\nWhen   December 6th\, 2019\; 2-8 pm\n\nHappy Hour Specials from 4-6 pm with Dave Ryan\, Tipsy Steer appetizers\, and more!\n\nWhere   Invictus Brewing Company \n\n(2025 105th Ave NE\, Blaine\, MN 55449)\n\nThis event will be outside on the patio so dress accordingly!\n\n\n\nRegister here for the Out of the Cold Kickoff.
X-ALT-DESC;FMTTYPE=text/html:<h3 style="text-align:center">Ensure Youth Experiencing Homelessness Are Never Left Out in the Cold Again.</h3>\n\n<p><span style="font-size:14px">On any given night in Minnesota\, 6\,000 young people have no place to call home. HOPE 4 Youth is working to change that and we need your help! You can help bring youth experiencing homelessness inside by attending one of our two&nbsp\;<em><strong>Out of the Cold</strong></em>&nbsp\;events\, or hosting your own&nbsp\;<em><strong>Out of the Cold</strong></em>&nbsp\;this December.</span></p>\n<br />\n<span style="font-size:14px"><strong>What &bull\;&nbsp\;</strong><span style="color:rgb(17\, 51\, 4)\; font-family:lato\,helveticaneue\,helvetica neue\,helvetica\,arial\,sans-serif">Join HOPE 4 Youth\, KDWB&rsquo\;s Dave Ryan\, and friends for a fun-filled evening as we work to bring youth experiencing homelessness&nbsp\;</span><strong><em>Out of the Cold</em></strong><span style="color:rgb(17\, 51\, 4)\; font-family:lato\,helveticaneue\,helvetica neue\,helvetica\,arial\,sans-serif">.</span><br />\n<strong>When &bull\;&nbsp\;</strong><span style="color:rgb(17\, 51\, 4)\; font-family:lato\,helveticaneue\,helvetica neue\,helvetica\,arial\,sans-serif">December 6th\, 2019\; 2-8 pm</span><br />\n<span style="color:rgb(17\, 51\, 4)\; font-family:lato\,helveticaneue\,helvetica neue\,helvetica\,arial\,sans-serif">Happy Hour Specials from 4-6 pm with Dave Ryan\, Tipsy Steer appetizers\, and more!</span><br />\n<strong>Where &bull\;&nbsp\;</strong><span style="color:rgb(17\, 51\, 4)\; font-family:lato\,helveticaneue\,helvetica neue\,helvetica\,arial\,sans-serif">Invictus Brewing Company&nbsp\;</span><br />\n<span style="color:rgb(17\, 51\, 4)\; font-family:lato\,helveticaneue\,helvetica neue\,helvetica\,arial\,sans-serif">(2025 105th Ave NE\, Blaine\, MN 55449)</span></span><br />\n<span style="color:rgb(17\, 51\, 4)\; font-family:lato\,helveticaneue\,helvetica neue\,helvetica\,arial\,sans-serif\; font-size:17px"><span style="font-size:14px">This event will be outside on the patio so dress accordingly!<br />\n<br />\n<a href="https://runsignup.com/Race/Register/?raceId=82648">Register here for the Out of the Cold Kickoff.</a></span></span>
LOCATION:Invictus Brewing Company (2025 105th Ave NE\, Blaine\, MN 55449)
UID:e.380.191626
SEQUENCE:3
DTSTAMP:20260419T142615Z
URL:http://members.metronorthchamber.org/events/details/out-of-the-cold-kickoff-191626
END:VEVENT

END:VCALENDAR
