BEGIN:VCALENDAR
VERSION:2.0
PRODID:-//ChamberMaster//Event Calendar 2.0//EN
METHOD:PUBLISH
X-PUBLISHED-TTL:P3D
REFRESH-INTERVAL:P3D
CALSCALE:GREGORIAN
BEGIN:VEVENT
DTSTART:20191220T180000Z
DTEND:20191221T020000Z
X-MICROSOFT-CDO-ALLDAYEVENT:FALSE
SUMMARY:Out of the Cold Final Freeze
DESCRIPTION:Ensure Youth Experiencing Homelessness Are Never Left Out in the Cold Again.\n\nOn any given night in Minnesota\, 6\,000 young people have no place to call home. HOPE 4 Youth is working to change that and we need your help! You can help bring youth experiencing homelessness inside by attending one of our two Out of the Cold events\, or hosting your own Out of the Cold this December.\n\n\nWhat   Gather with HOPE 4 Youth and other participants at the Final Freeze. This party atmosphere will include Food Trucks\, games\, fundraising updates\, and more.\n\nWhen   December 20th\, 2019\; noon-8 pm\n\nWhere   Anoka County Sheriff's Office\n\n(13301 Hanson Blvd NW\, Andover\, MN 55304)\n\nThis event will be outside so dress accordingly!\n\n\n\nRegister here for the Out of the Cold Final Freeze.
X-ALT-DESC;FMTTYPE=text/html:<h3 style="text-align:center">Ensure Youth Experiencing Homelessness Are Never Left Out in the Cold Again.</h3>\n\n<p><span style="font-size:14px">On any given night in Minnesota\, 6\,000 young people have no place to call home. HOPE 4 Youth is working to change that and we need your help! You can help bring youth experiencing homelessness inside by attending one of our two&nbsp\;<em><strong>Out of the Cold</strong></em>&nbsp\;events\, or hosting your own&nbsp\;<em><strong>Out of the Cold</strong></em>&nbsp\;this December.</span></p>\n<br />\n<span style="font-size:14px"><strong>What &bull\;&nbsp\;</strong><span style="color:rgb(17\, 51\, 4)\; font-family:lato\,helveticaneue\,helvetica neue\,helvetica\,arial\,sans-serif">Gather with HOPE 4 Youth and other participants at the Final Freeze. This party atmosphere will include Food Trucks\, games\, fundraising updates\, and more.</span><br />\n<strong>When &bull\;&nbsp\;</strong><span style="color:rgb(17\, 51\, 4)\; font-family:lato\,helveticaneue\,helvetica neue\,helvetica\,arial\,sans-serif">December 20th\, 2019\; noon-8 pm</span><br />\n<strong>Where &bull\;&nbsp\;</strong><span style="color:rgb(17\, 51\, 4)\; font-family:lato\,helveticaneue\,helvetica neue\,helvetica\,arial\,sans-serif">Anoka County Sheriff&rsquo\;s Office</span><br />\n<span style="color:rgb(17\, 51\, 4)\; font-family:lato\,helveticaneue\,helvetica neue\,helvetica\,arial\,sans-serif">(13301 Hanson Blvd NW\, Andover\, MN 55304)</span></span><br />\n<span style="color:rgb(17\, 51\, 4)\; font-family:lato\,helveticaneue\,helvetica neue\,helvetica\,arial\,sans-serif\; font-size:17px"><span style="font-size:14px">This event will be outside so dress accordingly!</span><br />\n<br />\n<span style="font-size:14px"><a href="https://runsignup.com/Race/Register/?raceId=82648">Register here for the Out of the Cold Final Freeze.</a></span></span>
LOCATION:Anoka County Sheriff's Office (13301 Hanson Blvd NW\, Andover\, MN 55304)
UID:e.380.191627
SEQUENCE:3
DTSTAMP:20260419T161630Z
URL:http://members.metronorthchamber.org/events/details/out-of-the-cold-final-freeze-191627
END:VEVENT

END:VCALENDAR
