BEGIN:VCALENDAR
VERSION:2.0
PRODID:-//ChamberMaster//Event Calendar 2.0//EN
METHOD:PUBLISH
X-PUBLISHED-TTL:P3D
REFRESH-INTERVAL:P3D
CALSCALE:GREGORIAN
BEGIN:VEVENT
DTSTART:20120209T230000Z
DTEND:20120210T010000Z
X-MICROSOFT-CDO-ALLDAYEVENT:FALSE
SUMMARY:Out of the Box
DESCRIPTION:"Out of the Box"\n\n	\n\n	Sponsored by Family Promise of Anoka and Trivent Financial for Lutherans\n\n	Come see creative expression  illustrating the journey from hopelessness to hopefulness and cast your vote for the best designed home from cardboard boxes. (for brochure email contact)
X-ALT-DESC;FMTTYPE=text/html:<p>\n	<strong><span style="color: #0000cd">&quot\;Out of the Box&quot\;</span></strong><br />\n	<br />\n	Sponsored by Family Promise of Anoka and Trivent Financial for Lutherans<br />\n	Come see creative expression&nbsp\; illustrating the journey from hopelessness to hopefulness and cast your vote for the best designed home from cardboard boxes. (for brochure email contact)</p>\n
LOCATION:Bunker Hills Activity Center Andover Mn.
UID:e.380.143178
SEQUENCE:3
DTSTAMP:20260425T230200Z
URL:http://members.metronorthchamber.org/events/details/out-of-the-box-02-09-2012-143178
END:VEVENT

END:VCALENDAR
