BEGIN:VCALENDAR
VERSION:2.0
PRODID:-//ChamberMaster//Event Calendar 2.0//EN
METHOD:PUBLISH
X-PUBLISHED-TTL:P3D
REFRESH-INTERVAL:P3D
CALSCALE:GREGORIAN
BEGIN:VEVENT
DTSTART:20130207T230000Z
DTEND:20130208T010000Z
X-MICROSOFT-CDO-ALLDAYEVENT:FALSE
SUMMARY:Out of the Box
DESCRIPTION:"Out of the Box" is a fundraising event to benefit Family Promise of Anoka County. Featuring hot appetizers\, yummy desserts\, wine\, jazz trio\, and a silent auction. Proceeds will provide emergency housing for families experiencing homelessness in Anoka county.  Ticket cost $25 in advance ($30 at the door). Ticket orders mailed to FPAC\, 14515 Nowthen Blvd NW\, Ramsey\, 55303 or GiveMN for online payment.\n\n\n\nOther ways to help:\n\n     Design a box representing a new home to display\n\n     Become a sponsor or make a donation\n\n     Furnish item for silent auction\n\n     Tell a friend\n\nFor information call 763-568-7365 or write info@familypromiseanoka.org.\n\n\n\nIn the past 2   years FPAC has moved 65 families into housing. Almost 20 county congregations provide overnight shelter and food for a week a quarter. Day center staff help find shelter\, work and other needed services.
X-ALT-DESC;FMTTYPE=text/html:<span style="font-size:11px\;"><span style="font-family: tahoma\;">&quot\;Out of the Box&quot\; is a fundraising event to benefit Family Promise of Anoka County. Featuring hot appetizers\, yummy desserts\, wine\, jazz trio\, and a silent auction. Proceeds will provide emergency housing for families experiencing homelessness in Anoka county.&nbsp\; Ticket cost $25 in advance ($30 at the door). Ticket orders mailed to FPAC\, 14515 Nowthen Blvd NW\, Ramsey\, 55303 or GiveMN for online payment.<br />\n<br />\nOther ways to help:<br />\n&bull\;&nbsp\;&nbsp\; &nbsp\;Design a box representing a new home to display<br />\n&bull\;&nbsp\;&nbsp\; &nbsp\;Become a sponsor or make a donation<br />\n&bull\;&nbsp\;&nbsp\; &nbsp\;Furnish item for silent auction<br />\n&bull\;&nbsp\;&nbsp\; &nbsp\;Tell a friend<br />\nFor information call 763-568-7365 or write <a href="mailto:info@familypromiseanoka.org?subject=Out%20of%20the%20Box">info@familypromiseanoka.org</a>.<br />\n<br />\nIn the past 2 &frac12\; years FPAC has moved 65 families into housing. Almost 20 county congregations provide overnight shelter and food for a week a quarter. Day center staff help find shelter\, work and other needed services.</span></span>
LOCATION:Bunker Hills Activity Center 550 Bunker Lake Blvd NW\, Andover
UID:e.380.147702
SEQUENCE:3
DTSTAMP:20260425T033916Z
URL:http://members.metronorthchamber.org/events/details/out-of-the-box-02-07-2013-147702
END:VEVENT

END:VCALENDAR
