BEGIN:VCALENDAR
VERSION:2.0
PRODID:-//ChamberMaster//Event Calendar 2.0//EN
METHOD:PUBLISH
X-PUBLISHED-TTL:P3D
REFRESH-INTERVAL:P3D
CALSCALE:GREGORIAN
BEGIN:VEVENT
DTSTART:20140122T173000Z
DTEND:20140122T183000Z
X-MICROSOFT-CDO-ALLDAYEVENT:FALSE
SUMMARY:Organizational Transformation - Lunch & Learn by Emerald Bay Performance
DESCRIPTION:Organizational Transformation Lunch & Learn \n\n WHAT WILL YOU GAIN?\n\n"High Performance Leadership: From Control to Empowerment" will teach you how to be an outstanding leader within your organization. The principles and practices you learn in this program are based upon observation and research from the foremost authorities in the field of leadership. From the program you will:\n\n          Understand the five practices of the world's greatest leaders.\n\n          Create a clear and compelling vision of the future.\n\n          Find an appropriate balance between the five major leadership roles (technician\, manager\, trailblazer\, architect and coach).\n\n          Become a leader who empowers others and brings out their best.\n\n          Learn how to organize and manage your priorities so that big things control little things.\n\n          Recognize leadership qualities in yourself.
X-ALT-DESC;FMTTYPE=text/html:Organizational Transformation Lunch&nbsp\;&amp\; Learn&nbsp\;<br />\n&nbsp\;<strong><span style="font-size: 13.5pt"><span style="color: #b49b5a"><span style="font-family: arial\, sans-serif">WHAT WILL YOU GAIN?</span></span></span></strong><br />\n<span style="font-size: 11.5pt"><span style="color: #2a2a2a"><span style="font-family: arial\, sans-serif">&ldquo\;High Performance Leadership: From Control to Empowerment&rdquo\; will teach you how to be an outstanding leader within your organization. The principles and practices you learn in this program are based upon observation and research from the foremost authorities in the field of leadership. From the program you will:</span></span></span><br />\n<span style="font-size: 10pt"><span style="color: black"><span style="font-family: symbol">&middot\;</span></span></span>&nbsp\;&nbsp\;&nbsp\;&nbsp\;&nbsp\;&nbsp\;&nbsp\;&nbsp\; <span style="font-size: 11.5pt"><span style="color: black"><span style="font-family: arial\, sans-serif">Understand the five practices of the world&rsquo\;s greatest leaders.</span></span></span><br />\n<span style="font-size: 10pt"><span style="color: black"><span style="font-family: symbol">&middot\;</span></span></span>&nbsp\;&nbsp\;&nbsp\;&nbsp\;&nbsp\;&nbsp\;&nbsp\;&nbsp\; <span style="font-size: 11.5pt"><span style="color: black"><span style="font-family: arial\, sans-serif">Create a clear and compelling vision of the future.</span></span></span><br />\n<span style="font-size: 10pt"><span style="color: black"><span style="font-family: symbol">&middot\;</span></span></span>&nbsp\;&nbsp\;&nbsp\;&nbsp\;&nbsp\;&nbsp\;&nbsp\;&nbsp\; <span style="font-size: 11.5pt"><span style="color: black"><span style="font-family: arial\, sans-serif">Find an appropriate balance between the five major leadership roles (technician\, manager\, trailblazer\, architect and coach).</span></span></span><br />\n<span style="font-size: 10pt"><span style="color: black"><span style="font-family: symbol">&middot\;</span></span></span>&nbsp\;&nbsp\;&nbsp\;&nbsp\;&nbsp\;&nbsp\;&nbsp\;&nbsp\; <span style="font-size: 11.5pt"><span style="color: black"><span style="font-family: arial\, sans-serif">Become a leader who empowers others and brings out their best.</span></span></span><br />\n<span style="font-size: 10pt"><span style="color: black"><span style="font-family: symbol">&middot\;</span></span></span>&nbsp\;&nbsp\;&nbsp\;&nbsp\;&nbsp\;&nbsp\;&nbsp\;&nbsp\; <span style="font-size: 11.5pt"><span style="color: black"><span style="font-family: arial\, sans-serif">Learn how to organize and manage your priorities so that big things control little things.</span></span></span><br />\n<span style="font-size: 10pt"><span style="color: black"><span style="font-family: symbol">&middot\;</span></span></span>&nbsp\;&nbsp\;&nbsp\;&nbsp\;&nbsp\;&nbsp\;&nbsp\;&nbsp\; <span style="font-size: 11.5pt"><span style="color: black"><span style="font-family: arial\, sans-serif">Recognize leadership qualities in yourself.</span></span></span><br />\n
LOCATION:MetroNorth Chamber Office
UID:e.380.150026
SEQUENCE:3
DTSTAMP:20260424T092754Z
URL:http://members.metronorthchamber.org/events/details/organizational-transformation-lunch-learn-by-emerald-bay-performance-01-22-2014-150026
END:VEVENT

END:VCALENDAR
