BEGIN:VCALENDAR
VERSION:2.0
PRODID:-//ChamberMaster//Event Calendar 2.0//EN
METHOD:PUBLISH
X-PUBLISHED-TTL:P3D
REFRESH-INTERVAL:P3D
CALSCALE:GREGORIAN
BEGIN:VEVENT
DTSTART:20111228T010000Z
DTEND:20111228T020000Z
X-MICROSOFT-CDO-ALLDAYEVENT:FALSE
SUMMARY:Optimal Body Makeover Preview
DESCRIPTION:Join us at The Power Within for a FREE preview of our Optimal Body Makeover class.  Learn why you're struggling with your weight\, how the program works\, the supplements involved and how to make decisions to protect your health. \n\n\n\nPlease RSVP to Marisa Reyes at 763-464-8682 or Marisa@ThePowerWithinOnline.com.  Seating is limited so reserve your spot today!
X-ALT-DESC;FMTTYPE=text/html:Join us at The Power Within for a <strong>FREE preview of our Optimal Body Makeover class</strong>.&nbsp\; Learn why you&#39\;re struggling with your weight\, how the program works\, the supplements involved and how to make decisions to protect your health.&nbsp\;<br />\n<br />\nPlease RSVP to Marisa Reyes at 763-464-8682 or <a href="mailto:Marisa@ThePowerWithinOnline.com">Marisa@ThePowerWithinOnline.com</a>.&nbsp\; Seating is limited so reserve your spot today!&nbsp\; 
LOCATION:7851 Sunnyside Road\, Mounds View\, MN 55112
UID:e.380.143018
SEQUENCE:3
DTSTAMP:20260426T032254Z
URL:http://members.metronorthchamber.org/events/details/optimal-body-makeover-preview-12-27-2011-143018
END:VEVENT

END:VCALENDAR
