BEGIN:VCALENDAR
VERSION:2.0
PRODID:-//ChamberMaster//Event Calendar 2.0//EN
METHOD:PUBLISH
X-PUBLISHED-TTL:P3D
REFRESH-INTERVAL:P3D
CALSCALE:GREGORIAN
BEGIN:VEVENT
DTSTART:20180605T160000Z
DTEND:20180605T180000Z
X-MICROSOFT-CDO-ALLDAYEVENT:FALSE
SUMMARY:Open House - The Legends of Spring Lake Park
DESCRIPTION:You're invited to the Spring Lake Park City Hall on Tuesday\, June 5th to learn about The Legends of Spring Lake Park\, the BRAND-NEW active senior community opening in late 2018. Explore floor plans\, review income qualifications\, meet the Legends team and have all your questions answered!
X-ALT-DESC;FMTTYPE=text/html:<span style="font-family:century gothic\,sans-serif\;"><span style="font-size:11pt\;">You&#39\;re invited to the Spring Lake Park City Hall on Tuesday\, June 5th to learn about&nbsp\;<a alt="http://www.legendsofspringlakepark.com/" href="http://r20.rs6.net/tn.jsp?f=001w6bRPaISLtPz2D0TkGCTq7ndWFPf8m1oXztHYlVJUa0BoIklfb4q--917GkjZZtE5eK71r5IJo1BHBavJ9DNpmURUcWcHoQS9ETGK9tvLC4r0DJz-ZnxrMOo_zMS1TACMIQgfVLF5e7HjI60stqirlH6BYuiQJYAUyYsguz-0dsc1GM-36uCJrxEY6I0-uYJ&amp\;c=OqBuC0aej2A92l0-ntCEkLcGe5qc8MdBQcfsBSyUpbL7a2jY8e6vRg==&amp\;ch=iNs_ZqM7NjxN57wVzZq3E8fG9CI-nLnmRL-e_N_W6u7pmCZ_dBHYqw==" linktype="1" shape="rect" target="_blank" track="on"><strong><span style="color:black\;">The Legends of Spring Lake Park</span></strong></a>\, the </span></span><strong><span style="color:#3B5777\;"><span style="font-family:century gothic\,sans-serif\;"><span style="font-size:11.0pt\;">BRAND-NEW active senior community opening in late 2018</span></span></span></strong><span style="font-family:century gothic\,sans-serif\;"><span style="font-size:11pt\;">. Explore floor plans\, review income qualifications\, meet the Legends team and have all your questions answered!</span></span>
LOCATION:Spring Lake Park City Hall 1301 81st Avenue\, NE. Spring Lake Park\, MN 55432
UID:e.380.185338
SEQUENCE:3
DTSTAMP:20260420T200755Z
URL:http://members.metronorthchamber.org/events/details/open-house-the-legends-of-spring-lake-park-185338
END:VEVENT

END:VCALENDAR
