BEGIN:VCALENDAR
VERSION:2.0
PRODID:-//ChamberMaster//Event Calendar 2.0//EN
METHOD:PUBLISH
X-PUBLISHED-TTL:P3D
REFRESH-INTERVAL:P3D
CALSCALE:GREGORIAN
BEGIN:VEVENT
DTSTART:20180714T160000Z
DTEND:20180714T183000Z
X-MICROSOFT-CDO-ALLDAYEVENT:FALSE
SUMMARY:Open House/Ribbon Cutting - Emberwood
DESCRIPTION:Join us in celebrating the final completion of Emberwood Apartments.\n\n\n\nBBQ\, tours\, and much\, much more...
X-ALT-DESC;FMTTYPE=text/html:Join us in celebrating the final completion of Emberwood Apartments.<br />\n<br />\nBBQ\, tours\, and much\, much more...
LOCATION:Emberwood Apartments 12664 Central Ave NE\, Blaine\, MN 55434
UID:e.380.185394
SEQUENCE:3
DTSTAMP:20260420T200455Z
URL:http://members.metronorthchamber.org/events/details/open-house-ribbon-cutting-emberwood-185394
END:VEVENT

END:VCALENDAR
