BEGIN:VCALENDAR
VERSION:2.0
PRODID:-//ChamberMaster//Event Calendar 2.0//EN
METHOD:PUBLISH
X-PUBLISHED-TTL:P3D
REFRESH-INTERVAL:P3D
CALSCALE:GREGORIAN
BEGIN:VEVENT
DTSTART:20180717T160000Z
DTEND:20180717T180000Z
X-MICROSOFT-CDO-ALLDAYEVENT:FALSE
SUMMARY:Open House Northwest Passage High School
DESCRIPTION:Open House\n\nCome check out an amazing school!
X-ALT-DESC;FMTTYPE=text/html:Open House<br />\nCome check out an amazing school!
LOCATION:11345 Robinson Dr\, Coon Rapids\, MN 55433
UID:e.380.185396
SEQUENCE:3
DTSTAMP:20260420T182507Z
URL:http://members.metronorthchamber.org/events/details/open-house-northwest-passage-high-school-185396
END:VEVENT

END:VCALENDAR
