BEGIN:VCALENDAR
VERSION:2.0
PRODID:-//ChamberMaster//Event Calendar 2.0//EN
METHOD:PUBLISH
X-PUBLISHED-TTL:P3D
REFRESH-INTERVAL:P3D
CALSCALE:GREGORIAN
BEGIN:VEVENT
DTSTART:20160626T183000Z
DTEND:20160626T203000Z
X-MICROSOFT-CDO-ALLDAYEVENT:FALSE
SUMMARY:Open House-Ice Cream Social
DESCRIPTION:Come to our ice cream social-Scoop-up some of your favorite ice cream and see why Autumn Glen was voted Best Assisted Living and Memroy Care!  Come join us at Autumn Glen for ice cream\, tours and fun!
X-ALT-DESC;FMTTYPE=text/html:Come to our ice cream social-Scoop-up some of your favorite ice cream and see why&nbsp\;Autumn Glen was voted Best Assisted Living and Memroy Care! &nbsp\;Come join us at Autumn Glen for ice cream\, tours and fun! &nbsp\;
LOCATION:3715 Coon Rapids Blvd NW Coon Rapids MN
UID:e.380.168623
SEQUENCE:3
DTSTAMP:20260422T102838Z
URL:http://members.metronorthchamber.org/events/details/open-house-ice-cream-social-06-26-2016-168623
END:VEVENT

END:VCALENDAR
