BEGIN:VCALENDAR
VERSION:2.0
PRODID:-//ChamberMaster//Event Calendar 2.0//EN
METHOD:PUBLISH
X-PUBLISHED-TTL:P3D
REFRESH-INTERVAL:P3D
CALSCALE:GREGORIAN
BEGIN:VEVENT
DTSTART:20180227T180000Z
DTEND:20180228T000000Z
X-MICROSOFT-CDO-ALLDAYEVENT:FALSE
SUMMARY:Open House Hiring Event
DESCRIPTION:Hiring for The Homestead at Anoka AND The Homestead at Coon Rapids\n- RNs\, LPNs\, CNAs\n\n- Managers\, Supervisors\,\n\n- Dietary Aides & Cooks\n\nAPPLY & INTERVIEW ON THE SPOT!
X-ALT-DESC;FMTTYPE=text/html:Hiring for The Homestead at Anoka AND The Homestead at Coon Rapids\n<p>- RNs\, LPNs\, CNAs</p>\n\n<p>- Managers\, Supervisors\,</p>\n\n<p>- Dietary Aides &amp\; Cooks</p>\n\n<p>APPLY &amp\; INTERVIEW <u>ON THE SPOT!</u></p>\n
LOCATION:The Homestead at Anoka 3000 4th Avenue Anoka\, MN 55303
UID:e.380.180281
SEQUENCE:3
DTSTAMP:20260421T022152Z
URL:http://members.metronorthchamber.org/events/details/open-house-hiring-event-180281
END:VEVENT

END:VCALENDAR
