BEGIN:VCALENDAR
VERSION:2.0
PRODID:-//ChamberMaster//Event Calendar 2.0//EN
METHOD:PUBLISH
X-PUBLISHED-TTL:P3D
REFRESH-INTERVAL:P3D
CALSCALE:GREGORIAN
BEGIN:VEVENT
DTSTART:20171031T150000Z
DTEND:20171031T190000Z
X-MICROSOFT-CDO-ALLDAYEVENT:FALSE
SUMMARY:Open House at The Parkway Off Central
DESCRIPTION:Open House at The Parkway Off Central!\n\nCome & Take a Tour of the Newest Community in Blaine!\n\n\n\nLight lunch\, tour and prizes\n\n\n\nRSVP to parkway@steven-scott.com or 763-784-9399
X-ALT-DESC;FMTTYPE=text/html:Open House at The Parkway Off Central!<br />\nCome &amp\; Take a Tour of the Newest Community in Blaine!<br />\n<br />\nLight lunch\, tour and prizes<br />\n<br />\nRSVP to parkway@steven-scott.com or 763-784-9399
LOCATION:The Parkway Off Central 9436 Ulysses St NE Blaine\, MN 55434
UID:e.380.176731
SEQUENCE:3
DTSTAMP:20260421T082625Z
URL:http://members.metronorthchamber.org/events/details/open-house-at-the-parkway-off-central-176731
END:VEVENT

END:VCALENDAR
