BEGIN:VCALENDAR
VERSION:2.0
PRODID:-//ChamberMaster//Event Calendar 2.0//EN
METHOD:PUBLISH
X-PUBLISHED-TTL:P3D
REFRESH-INTERVAL:P3D
CALSCALE:GREGORIAN
BEGIN:VEVENT
DTSTART;VALUE=DATE:20131206
DTEND;VALUE=DATE:20131208
TRANSP:TRANSPARENT
X-MICROSOFT-CDO-ALLDAYEVENT:TRUE
SUMMARY:Open House at Eichtens Market and Cafe
DESCRIPTION:Annual Open House\n\nDec 6th and 7th\n\n11 am to 3 pm\n\n\n\nGift Card Drawings\n\nCheese Samples\n\nCustom Gifts (Take home or ship Nationwide)\n\nFood Specials in Cafe\n\nRussian Tea & Cookies
X-ALT-DESC;FMTTYPE=text/html:<u><strong>Annual Open House</strong></u><br />\nDec 6th and 7th<br />\n11 am to 3 pm<br />\n<br />\nGift Card Drawings<br />\nCheese Samples<br />\nCustom Gifts (Take home or ship Nationwide)<br />\nFood Specials in Cafe<br />\nRussian Tea &amp\; Cookies 
LOCATION:16440 Lake Blvd (2 miles east of center City on Hwy 8) Center City\, MN 55012 651-257-1566
UID:e.380.149934
SEQUENCE:3
DTSTAMP:20260424T124653Z
URL:http://members.metronorthchamber.org/events/details/open-house-at-eichtens-market-and-cafe-12-06-2013-149934
END:VEVENT

END:VCALENDAR
