BEGIN:VCALENDAR
VERSION:2.0
PRODID:-//ChamberMaster//Event Calendar 2.0//EN
METHOD:PUBLISH
X-PUBLISHED-TTL:P3D
REFRESH-INTERVAL:P3D
CALSCALE:GREGORIAN
BEGIN:VEVENT
DTSTART:20190119T173000Z
DTEND:20190119T213000Z
X-MICROSOFT-CDO-ALLDAYEVENT:FALSE
SUMMARY:Open House
DESCRIPTION:You're Invited to an Open House\n\n2672 County Road H Mounds View\, MN\n\n11:30am   3:30pm
X-ALT-DESC;FMTTYPE=text/html:<div>&nbsp\;</div>\nYou&#39\;re Invited to an Open House<br />\n2672 County Road H Mounds View\, MN<br />\n11:30am &ndash\; 3:30pm<br />\n<br />\n&nbsp\;
LOCATION:
UID:e.380.187863
SEQUENCE:3
DTSTAMP:20260420T103712Z
URL:http://members.metronorthchamber.org/events/details/open-house-187863
END:VEVENT

END:VCALENDAR
