BEGIN:VCALENDAR
VERSION:2.0
PRODID:-//ChamberMaster//Event Calendar 2.0//EN
METHOD:PUBLISH
X-PUBLISHED-TTL:P3D
REFRESH-INTERVAL:P3D
CALSCALE:GREGORIAN
BEGIN:VEVENT
DTSTART:20190113T173000Z
DTEND:20190113T213000Z
X-MICROSOFT-CDO-ALLDAYEVENT:FALSE
SUMMARY:Open House
DESCRIPTION:You're Invited to an Open House\n\n2734 11th Ave\, Anoka\, MN\nSunday\, January 13\n\n11:30am   3:30pm
X-ALT-DESC;FMTTYPE=text/html:<div style="margin-left:0in\;">You&#39\;re Invited to an Open House<br />\n2734 11<sup>th</sup> Ave\, Anoka\, MN</div>\nSunday\, January 13<br />\n11:30am &ndash\; 3:30pm
LOCATION:
UID:e.380.187862
SEQUENCE:3
DTSTAMP:20260420T103645Z
URL:http://members.metronorthchamber.org/events/details/open-house-187862
END:VEVENT

END:VCALENDAR
