BEGIN:VCALENDAR
VERSION:2.0
PRODID:-//ChamberMaster//Event Calendar 2.0//EN
METHOD:PUBLISH
X-PUBLISHED-TTL:P3D
REFRESH-INTERVAL:P3D
CALSCALE:GREGORIAN
BEGIN:VEVENT
DTSTART:20190623T230000Z
DTEND:20190624T003000Z
X-MICROSOFT-CDO-ALLDAYEVENT:FALSE
SUMMARY:Open House
DESCRIPTION:Come to Jam Hops to play in our gym and check out our many programs\, classes and activities that we offer. Go to our website for much more information!
X-ALT-DESC;FMTTYPE=text/html:<p><strong>Come to Jam Hops to play in our gym and check out our many programs\, classes and activities that we offer. Go to our website for much more information!</strong></p>\n
LOCATION:1460 133rd Lane NE\, Ham Lake
UID:e.380.189280
SEQUENCE:3
DTSTAMP:20260420T002521Z
URL:http://members.metronorthchamber.org/events/details/open-house-06-23-2019-189280
END:VEVENT

END:VCALENDAR
